BEGIN:VCALENDAR
VERSION:2.0
PRODID:-//CRCD - ECPv6.15.20//NONSGML v1.0//EN
CALSCALE:GREGORIAN
METHOD:PUBLISH
X-ORIGINAL-URL:https://coalitionrcd.org
X-WR-CALDESC:Events for CRCD
REFRESH-INTERVAL;VALUE=DURATION:PT1H
X-Robots-Tag:noindex
X-PUBLISHED-TTL:PT1H
BEGIN:VTIMEZONE
TZID:America/Los_Angeles
BEGIN:DAYLIGHT
TZOFFSETFROM:-0800
TZOFFSETTO:-0700
TZNAME:PDT
DTSTART:20220313T100000
END:DAYLIGHT
BEGIN:STANDARD
TZOFFSETFROM:-0700
TZOFFSETTO:-0800
TZNAME:PST
DTSTART:20221106T090000
END:STANDARD
BEGIN:DAYLIGHT
TZOFFSETFROM:-0800
TZOFFSETTO:-0700
TZNAME:PDT
DTSTART:20230312T100000
END:DAYLIGHT
BEGIN:STANDARD
TZOFFSETFROM:-0700
TZOFFSETTO:-0800
TZNAME:PST
DTSTART:20231105T090000
END:STANDARD
BEGIN:DAYLIGHT
TZOFFSETFROM:-0800
TZOFFSETTO:-0700
TZNAME:PDT
DTSTART:20240310T100000
END:DAYLIGHT
BEGIN:STANDARD
TZOFFSETFROM:-0700
TZOFFSETTO:-0800
TZNAME:PST
DTSTART:20241103T090000
END:STANDARD
END:VTIMEZONE
BEGIN:VEVENT
DTSTART;TZID=America/Los_Angeles:20230126T100000
DTEND;TZID=America/Los_Angeles:20230126T120000
DTSTAMP:20260421T041655
CREATED:20211222T144342Z
LAST-MODIFIED:20250617T185718Z
UID:10008321-1674727200-1674734400@coalitionrcd.org
SUMMARY:Orientations – Vernon-Central/LATTC WorkSource Center
DESCRIPTION:Workforce Development for Adults – Orientation\nEvery Tuesday and Thursday’s – 10:00 AM\n  \nFor more information\, please contact or e-mail: \nVernon-Central/LATTC WorkSource Center at 213-763-5951 or 213-763-5914 \nEmail: worksource@coalitionrcd.org \nLocation: \nVernon-Central/LATTC WorkSource Center\n400 W Washington Blvd.\nLos Angeles\, CA 90015\nTom Bradley Center for Student Life(formerly Redwood Hall)
URL:https://coalitionrcd.org/event/workforce-development-for-adults-orientation/2023-01-26/
LOCATION:CA
ATTACH;FMTTYPE=image/jpeg:https://coalitionrcd.org/wp-content/uploads/2021/12/17E241F5-D195-48F1-B50C-470673392ACA.jpeg
END:VEVENT
BEGIN:VEVENT
DTSTART;TZID=America/Los_Angeles:20230126T100000
DTEND;TZID=America/Los_Angeles:20230126T120000
DTSTAMP:20260421T041655
CREATED:20211222T144342Z
LAST-MODIFIED:20250617T185727Z
UID:10021510-1674727200-1674734400@coalitionrcd.org
SUMMARY:Orientations – Vernon-Central/LATTC WorkSource Center
DESCRIPTION:Workforce Development for Adults – Orientation\nEvery Tuesday and Thursday’s – 10:00 AM\n  \nFor more information\, please contact or e-mail: \nVernon-Central/LATTC WorkSource Center at 213-763-5951 or 213-763-5914 \nEmail: worksource@coalitionrcd.org \nLocation: \nVernon-Central/LATTC WorkSource Center\n400 W Washington Blvd.\nLos Angeles\, CA 90015\nTom Bradley Center for Student Life(formerly Redwood Hall)
URL:https://coalitionrcd.org/event/workforce-development-for-adults-orientation/2023-01-26/
LOCATION:CA
ATTACH;FMTTYPE=image/jpeg:https://coalitionrcd.org/wp-content/uploads/2021/12/17E241F5-D195-48F1-B50C-470673392ACA.jpeg
END:VEVENT
BEGIN:VEVENT
DTSTART;TZID=America/Los_Angeles:20230126T100000
DTEND;TZID=America/Los_Angeles:20230126T120000
DTSTAMP:20260421T041655
CREATED:20211222T144342Z
LAST-MODIFIED:20250617T185726Z
UID:10020732-1674727200-1674734400@coalitionrcd.org
SUMMARY:Orientations – Vernon-Central/LATTC WorkSource Center
DESCRIPTION:Workforce Development for Adults – Orientation\nEvery Tuesday and Thursday’s – 10:00 AM\n  \nFor more information\, please contact or e-mail: \nVernon-Central/LATTC WorkSource Center at 213-763-5951 or 213-763-5914 \nEmail: worksource@coalitionrcd.org \nLocation: \nVernon-Central/LATTC WorkSource Center\n400 W Washington Blvd.\nLos Angeles\, CA 90015\nTom Bradley Center for Student Life(formerly Redwood Hall)
URL:https://coalitionrcd.org/event/workforce-development-for-adults-orientation/2023-01-26/
LOCATION:CA
ATTACH;FMTTYPE=image/jpeg:https://coalitionrcd.org/wp-content/uploads/2021/12/17E241F5-D195-48F1-B50C-470673392ACA.jpeg
END:VEVENT
BEGIN:VEVENT
DTSTART;TZID=America/Los_Angeles:20230126T100000
DTEND;TZID=America/Los_Angeles:20230126T120000
DTSTAMP:20260421T041655
CREATED:20211222T144342Z
LAST-MODIFIED:20250617T185733Z
UID:10020026-1674727200-1674734400@coalitionrcd.org
SUMMARY:Orientations – Vernon-Central/LATTC WorkSource Center
DESCRIPTION:Workforce Development for Adults – Orientation\nEvery Tuesday and Thursday’s – 10:00 AM\n  \nFor more information\, please contact or e-mail: \nVernon-Central/LATTC WorkSource Center at 213-763-5951 or 213-763-5914 \nEmail: worksource@coalitionrcd.org \nLocation: \nVernon-Central/LATTC WorkSource Center\n400 W Washington Blvd.\nLos Angeles\, CA 90015\nTom Bradley Center for Student Life(formerly Redwood Hall)
URL:https://coalitionrcd.org/event/workforce-development-for-adults-orientation/2023-01-26/
LOCATION:CA
ATTACH;FMTTYPE=image/jpeg:https://coalitionrcd.org/wp-content/uploads/2021/12/17E241F5-D195-48F1-B50C-470673392ACA.jpeg
END:VEVENT
BEGIN:VEVENT
DTSTART;TZID=America/Los_Angeles:20230126T100000
DTEND;TZID=America/Los_Angeles:20230126T120000
DTSTAMP:20260421T041655
CREATED:20211222T144342Z
LAST-MODIFIED:20250617T185731Z
UID:10019202-1674727200-1674734400@coalitionrcd.org
SUMMARY:Orientations – Vernon-Central/LATTC WorkSource Center
DESCRIPTION:Workforce Development for Adults – Orientation\nEvery Tuesday and Thursday’s – 10:00 AM\n  \nFor more information\, please contact or e-mail: \nVernon-Central/LATTC WorkSource Center at 213-763-5951 or 213-763-5914 \nEmail: worksource@coalitionrcd.org \nLocation: \nVernon-Central/LATTC WorkSource Center\n400 W Washington Blvd.\nLos Angeles\, CA 90015\nTom Bradley Center for Student Life(formerly Redwood Hall)
URL:https://coalitionrcd.org/event/workforce-development-for-adults-orientation/2023-01-26/
LOCATION:CA
ATTACH;FMTTYPE=image/jpeg:https://coalitionrcd.org/wp-content/uploads/2021/12/17E241F5-D195-48F1-B50C-470673392ACA.jpeg
END:VEVENT
BEGIN:VEVENT
DTSTART;TZID=America/Los_Angeles:20230126T100000
DTEND;TZID=America/Los_Angeles:20230126T120000
DTSTAMP:20260421T041655
CREATED:20211222T144342Z
LAST-MODIFIED:20250617T185730Z
UID:10017462-1674727200-1674734400@coalitionrcd.org
SUMMARY:Orientations – Vernon-Central/LATTC WorkSource Center
DESCRIPTION:Workforce Development for Adults – Orientation\nEvery Tuesday and Thursday’s – 10:00 AM\n  \nFor more information\, please contact or e-mail: \nVernon-Central/LATTC WorkSource Center at 213-763-5951 or 213-763-5914 \nEmail: worksource@coalitionrcd.org \nLocation: \nVernon-Central/LATTC WorkSource Center\n400 W Washington Blvd.\nLos Angeles\, CA 90015\nTom Bradley Center for Student Life(formerly Redwood Hall)
URL:https://coalitionrcd.org/event/workforce-development-for-adults-orientation/2023-01-26/
LOCATION:CA
ATTACH;FMTTYPE=image/jpeg:https://coalitionrcd.org/wp-content/uploads/2021/12/17E241F5-D195-48F1-B50C-470673392ACA.jpeg
END:VEVENT
BEGIN:VEVENT
DTSTART;TZID=America/Los_Angeles:20230126T100000
DTEND;TZID=America/Los_Angeles:20230126T120000
DTSTAMP:20260421T041655
CREATED:20211222T144342Z
LAST-MODIFIED:20250617T185729Z
UID:10016636-1674727200-1674734400@coalitionrcd.org
SUMMARY:Orientations – Vernon-Central/LATTC WorkSource Center
DESCRIPTION:Workforce Development for Adults – Orientation\nEvery Tuesday and Thursday’s – 10:00 AM\n  \nFor more information\, please contact or e-mail: \nVernon-Central/LATTC WorkSource Center at 213-763-5951 or 213-763-5914 \nEmail: worksource@coalitionrcd.org \nLocation: \nVernon-Central/LATTC WorkSource Center\n400 W Washington Blvd.\nLos Angeles\, CA 90015\nTom Bradley Center for Student Life(formerly Redwood Hall)
URL:https://coalitionrcd.org/event/workforce-development-for-adults-orientation/2023-01-26/
LOCATION:CA
ATTACH;FMTTYPE=image/jpeg:https://coalitionrcd.org/wp-content/uploads/2021/12/17E241F5-D195-48F1-B50C-470673392ACA.jpeg
END:VEVENT
BEGIN:VEVENT
DTSTART;TZID=America/Los_Angeles:20230126T100000
DTEND;TZID=America/Los_Angeles:20230126T120000
DTSTAMP:20260421T041655
CREATED:20211222T144342Z
LAST-MODIFIED:20250617T185725Z
UID:10014152-1674727200-1674734400@coalitionrcd.org
SUMMARY:Orientations – Vernon-Central/LATTC WorkSource Center
DESCRIPTION:Workforce Development for Adults – Orientation\nEvery Tuesday and Thursday’s – 10:00 AM\n  \nFor more information\, please contact or e-mail: \nVernon-Central/LATTC WorkSource Center at 213-763-5951 or 213-763-5914 \nEmail: worksource@coalitionrcd.org \nLocation: \nVernon-Central/LATTC WorkSource Center\n400 W Washington Blvd.\nLos Angeles\, CA 90015\nTom Bradley Center for Student Life(formerly Redwood Hall)
URL:https://coalitionrcd.org/event/workforce-development-for-adults-orientation/2023-01-26/
LOCATION:CA
ATTACH;FMTTYPE=image/jpeg:https://coalitionrcd.org/wp-content/uploads/2021/12/17E241F5-D195-48F1-B50C-470673392ACA.jpeg
END:VEVENT
BEGIN:VEVENT
DTSTART;TZID=America/Los_Angeles:20230126T100000
DTEND;TZID=America/Los_Angeles:20230126T120000
DTSTAMP:20260421T041655
CREATED:20211222T144342Z
LAST-MODIFIED:20250617T185724Z
UID:10013322-1674727200-1674734400@coalitionrcd.org
SUMMARY:Orientations – Vernon-Central/LATTC WorkSource Center
DESCRIPTION:Workforce Development for Adults – Orientation\nEvery Tuesday and Thursday’s – 10:00 AM\n  \nFor more information\, please contact or e-mail: \nVernon-Central/LATTC WorkSource Center at 213-763-5951 or 213-763-5914 \nEmail: worksource@coalitionrcd.org \nLocation: \nVernon-Central/LATTC WorkSource Center\n400 W Washington Blvd.\nLos Angeles\, CA 90015\nTom Bradley Center for Student Life(formerly Redwood Hall)
URL:https://coalitionrcd.org/event/workforce-development-for-adults-orientation/2023-01-26/
LOCATION:CA
ATTACH;FMTTYPE=image/jpeg:https://coalitionrcd.org/wp-content/uploads/2021/12/17E241F5-D195-48F1-B50C-470673392ACA.jpeg
END:VEVENT
BEGIN:VEVENT
DTSTART;TZID=America/Los_Angeles:20230126T100000
DTEND;TZID=America/Los_Angeles:20230126T120000
DTSTAMP:20260421T041655
CREATED:20211222T144342Z
LAST-MODIFIED:20250617T185723Z
UID:10012491-1674727200-1674734400@coalitionrcd.org
SUMMARY:Orientations – Vernon-Central/LATTC WorkSource Center
DESCRIPTION:Workforce Development for Adults – Orientation\nEvery Tuesday and Thursday’s – 10:00 AM\n  \nFor more information\, please contact or e-mail: \nVernon-Central/LATTC WorkSource Center at 213-763-5951 or 213-763-5914 \nEmail: worksource@coalitionrcd.org \nLocation: \nVernon-Central/LATTC WorkSource Center\n400 W Washington Blvd.\nLos Angeles\, CA 90015\nTom Bradley Center for Student Life(formerly Redwood Hall)
URL:https://coalitionrcd.org/event/workforce-development-for-adults-orientation/2023-01-26/
LOCATION:CA
ATTACH;FMTTYPE=image/jpeg:https://coalitionrcd.org/wp-content/uploads/2021/12/17E241F5-D195-48F1-B50C-470673392ACA.jpeg
END:VEVENT
BEGIN:VEVENT
DTSTART;TZID=America/Los_Angeles:20230126T100000
DTEND;TZID=America/Los_Angeles:20230126T120000
DTSTAMP:20260421T041655
CREATED:20211222T144342Z
LAST-MODIFIED:20250617T185722Z
UID:10011659-1674727200-1674734400@coalitionrcd.org
SUMMARY:Orientations – Vernon-Central/LATTC WorkSource Center
DESCRIPTION:Workforce Development for Adults – Orientation\nEvery Tuesday and Thursday’s – 10:00 AM\n  \nFor more information\, please contact or e-mail: \nVernon-Central/LATTC WorkSource Center at 213-763-5951 or 213-763-5914 \nEmail: worksource@coalitionrcd.org \nLocation: \nVernon-Central/LATTC WorkSource Center\n400 W Washington Blvd.\nLos Angeles\, CA 90015\nTom Bradley Center for Student Life(formerly Redwood Hall)
URL:https://coalitionrcd.org/event/workforce-development-for-adults-orientation/2023-01-26/
LOCATION:CA
ATTACH;FMTTYPE=image/jpeg:https://coalitionrcd.org/wp-content/uploads/2021/12/17E241F5-D195-48F1-B50C-470673392ACA.jpeg
END:VEVENT
BEGIN:VEVENT
DTSTART;TZID=America/Los_Angeles:20230126T100000
DTEND;TZID=America/Los_Angeles:20230126T120000
DTSTAMP:20260421T041655
CREATED:20211222T144342Z
LAST-MODIFIED:20250617T185721Z
UID:10010826-1674727200-1674734400@coalitionrcd.org
SUMMARY:Orientations – Vernon-Central/LATTC WorkSource Center
DESCRIPTION:Workforce Development for Adults – Orientation\nEvery Tuesday and Thursday’s – 10:00 AM\n  \nFor more information\, please contact or e-mail: \nVernon-Central/LATTC WorkSource Center at 213-763-5951 or 213-763-5914 \nEmail: worksource@coalitionrcd.org \nLocation: \nVernon-Central/LATTC WorkSource Center\n400 W Washington Blvd.\nLos Angeles\, CA 90015\nTom Bradley Center for Student Life(formerly Redwood Hall)
URL:https://coalitionrcd.org/event/workforce-development-for-adults-orientation/2023-01-26/
LOCATION:CA
ATTACH;FMTTYPE=image/jpeg:https://coalitionrcd.org/wp-content/uploads/2021/12/17E241F5-D195-48F1-B50C-470673392ACA.jpeg
END:VEVENT
BEGIN:VEVENT
DTSTART;TZID=America/Los_Angeles:20230126T100000
DTEND;TZID=America/Los_Angeles:20230126T120000
DTSTAMP:20260421T041655
CREATED:20211222T144342Z
LAST-MODIFIED:20250617T185720Z
UID:10009992-1674727200-1674734400@coalitionrcd.org
SUMMARY:Orientations – Vernon-Central/LATTC WorkSource Center
DESCRIPTION:Workforce Development for Adults – Orientation\nEvery Tuesday and Thursday’s – 10:00 AM\n  \nFor more information\, please contact or e-mail: \nVernon-Central/LATTC WorkSource Center at 213-763-5951 or 213-763-5914 \nEmail: worksource@coalitionrcd.org \nLocation: \nVernon-Central/LATTC WorkSource Center\n400 W Washington Blvd.\nLos Angeles\, CA 90015\nTom Bradley Center for Student Life(formerly Redwood Hall)
URL:https://coalitionrcd.org/event/workforce-development-for-adults-orientation/2023-01-26/
LOCATION:CA
ATTACH;FMTTYPE=image/jpeg:https://coalitionrcd.org/wp-content/uploads/2021/12/17E241F5-D195-48F1-B50C-470673392ACA.jpeg
END:VEVENT
BEGIN:VEVENT
DTSTART;TZID=America/Los_Angeles:20230126T100000
DTEND;TZID=America/Los_Angeles:20230126T120000
DTSTAMP:20260421T041655
CREATED:20211222T144342Z
LAST-MODIFIED:20250617T185719Z
UID:10009157-1674727200-1674734400@coalitionrcd.org
SUMMARY:Orientations – Vernon-Central/LATTC WorkSource Center
DESCRIPTION:Workforce Development for Adults – Orientation\nEvery Tuesday and Thursday’s – 10:00 AM\n  \nFor more information\, please contact or e-mail: \nVernon-Central/LATTC WorkSource Center at 213-763-5951 or 213-763-5914 \nEmail: worksource@coalitionrcd.org \nLocation: \nVernon-Central/LATTC WorkSource Center\n400 W Washington Blvd.\nLos Angeles\, CA 90015\nTom Bradley Center for Student Life(formerly Redwood Hall)
URL:https://coalitionrcd.org/event/workforce-development-for-adults-orientation/2023-01-26/
LOCATION:CA
ATTACH;FMTTYPE=image/jpeg:https://coalitionrcd.org/wp-content/uploads/2021/12/17E241F5-D195-48F1-B50C-470673392ACA.jpeg
END:VEVENT
BEGIN:VEVENT
DTSTART;TZID=America/Los_Angeles:20230126T100000
DTEND;TZID=America/Los_Angeles:20230126T120000
DTSTAMP:20260421T041655
CREATED:20211222T144342Z
LAST-MODIFIED:20230629T173805Z
UID:10001689-1674727200-1674734400@coalitionrcd.org
SUMMARY:Orientations – Vernon-Central/LATTC WorkSource Center
DESCRIPTION:Workforce Development for Adults – Orientation\nEvery Tuesday and Thursday’s – 10:00 AM\n  \nFor more information\, please contact or e-mail: \nVernon-Central/LATTC WorkSource Center at 213-763-5951 or 213-763-5914 \nEmail: worksource@coalitionrcd.org \nLocation: \nVernon-Central/LATTC WorkSource Center\n400 W Washington Blvd.\nLos Angeles\, CA 90015\nTom Bradley Center for Student Life(formerly Redwood Hall)
URL:https://coalitionrcd.org/event/workforce-development-for-adults-orientation/2023-01-26/
LOCATION:CA
ATTACH;FMTTYPE=image/jpeg:https://coalitionrcd.org/wp-content/uploads/2021/12/17E241F5-D195-48F1-B50C-470673392ACA.jpeg
END:VEVENT
BEGIN:VEVENT
DTSTART;TZID=America/Los_Angeles:20230126T100000
DTEND;TZID=America/Los_Angeles:20230126T120000
DTSTAMP:20260421T041655
CREATED:20211222T144342Z
LAST-MODIFIED:20250617T185716Z
UID:10007484-1674727200-1674734400@coalitionrcd.org
SUMMARY:Orientations – Vernon-Central/LATTC WorkSource Center
DESCRIPTION:Workforce Development for Adults – Orientation\nEvery Tuesday and Thursday’s – 10:00 AM\n  \nFor more information\, please contact or e-mail: \nVernon-Central/LATTC WorkSource Center at 213-763-5951 or 213-763-5914 \nEmail: worksource@coalitionrcd.org \nLocation: \nVernon-Central/LATTC WorkSource Center\n400 W Washington Blvd.\nLos Angeles\, CA 90015\nTom Bradley Center for Student Life(formerly Redwood Hall)
URL:https://coalitionrcd.org/event/workforce-development-for-adults-orientation/2023-01-26/
LOCATION:CA
ATTACH;FMTTYPE=image/jpeg:https://coalitionrcd.org/wp-content/uploads/2021/12/17E241F5-D195-48F1-B50C-470673392ACA.jpeg
END:VEVENT
BEGIN:VEVENT
DTSTART;TZID=America/Los_Angeles:20230126T100000
DTEND;TZID=America/Los_Angeles:20230126T120000
DTSTAMP:20260421T041655
CREATED:20211222T144342Z
LAST-MODIFIED:20250617T185714Z
UID:10006646-1674727200-1674734400@coalitionrcd.org
SUMMARY:Orientations – Vernon-Central/LATTC WorkSource Center
DESCRIPTION:Workforce Development for Adults – Orientation\nEvery Tuesday and Thursday’s – 10:00 AM\n  \nFor more information\, please contact or e-mail: \nVernon-Central/LATTC WorkSource Center at 213-763-5951 or 213-763-5914 \nEmail: worksource@coalitionrcd.org \nLocation: \nVernon-Central/LATTC WorkSource Center\n400 W Washington Blvd.\nLos Angeles\, CA 90015\nTom Bradley Center for Student Life(formerly Redwood Hall)
URL:https://coalitionrcd.org/event/workforce-development-for-adults-orientation/2023-01-26/
LOCATION:CA
ATTACH;FMTTYPE=image/jpeg:https://coalitionrcd.org/wp-content/uploads/2021/12/17E241F5-D195-48F1-B50C-470673392ACA.jpeg
END:VEVENT
BEGIN:VEVENT
DTSTART;TZID=America/Los_Angeles:20230126T100000
DTEND;TZID=America/Los_Angeles:20230126T120000
DTSTAMP:20260421T041655
CREATED:20211222T144342Z
LAST-MODIFIED:20250617T185712Z
UID:10005807-1674727200-1674734400@coalitionrcd.org
SUMMARY:Orientations – Vernon-Central/LATTC WorkSource Center
DESCRIPTION:Workforce Development for Adults – Orientation\nEvery Tuesday and Thursday’s – 10:00 AM\n  \nFor more information\, please contact or e-mail: \nVernon-Central/LATTC WorkSource Center at 213-763-5951 or 213-763-5914 \nEmail: worksource@coalitionrcd.org \nLocation: \nVernon-Central/LATTC WorkSource Center\n400 W Washington Blvd.\nLos Angeles\, CA 90015\nTom Bradley Center for Student Life(formerly Redwood Hall)
URL:https://coalitionrcd.org/event/workforce-development-for-adults-orientation/2023-01-26/
LOCATION:CA
ATTACH;FMTTYPE=image/jpeg:https://coalitionrcd.org/wp-content/uploads/2021/12/17E241F5-D195-48F1-B50C-470673392ACA.jpeg
END:VEVENT
BEGIN:VEVENT
DTSTART;TZID=America/Los_Angeles:20230126T100000
DTEND;TZID=America/Los_Angeles:20230126T120000
DTSTAMP:20260421T041655
CREATED:20211222T144342Z
LAST-MODIFIED:20250617T185710Z
UID:10004967-1674727200-1674734400@coalitionrcd.org
SUMMARY:Orientations – Vernon-Central/LATTC WorkSource Center
DESCRIPTION:Workforce Development for Adults – Orientation\nEvery Tuesday and Thursday’s – 10:00 AM\n  \nFor more information\, please contact or e-mail: \nVernon-Central/LATTC WorkSource Center at 213-763-5951 or 213-763-5914 \nEmail: worksource@coalitionrcd.org \nLocation: \nVernon-Central/LATTC WorkSource Center\n400 W Washington Blvd.\nLos Angeles\, CA 90015\nTom Bradley Center for Student Life(formerly Redwood Hall)
URL:https://coalitionrcd.org/event/workforce-development-for-adults-orientation/2023-01-26/
LOCATION:CA
ATTACH;FMTTYPE=image/jpeg:https://coalitionrcd.org/wp-content/uploads/2021/12/17E241F5-D195-48F1-B50C-470673392ACA.jpeg
END:VEVENT
BEGIN:VEVENT
DTSTART;TZID=America/Los_Angeles:20230126T100000
DTEND;TZID=America/Los_Angeles:20230126T120000
DTSTAMP:20260421T041655
CREATED:20211222T144342Z
LAST-MODIFIED:20250617T185709Z
UID:10004126-1674727200-1674734400@coalitionrcd.org
SUMMARY:Orientations – Vernon-Central/LATTC WorkSource Center
DESCRIPTION:Workforce Development for Adults – Orientation\nEvery Tuesday and Thursday’s – 10:00 AM\n  \nFor more information\, please contact or e-mail: \nVernon-Central/LATTC WorkSource Center at 213-763-5951 or 213-763-5914 \nEmail: worksource@coalitionrcd.org \nLocation: \nVernon-Central/LATTC WorkSource Center\n400 W Washington Blvd.\nLos Angeles\, CA 90015\nTom Bradley Center for Student Life(formerly Redwood Hall)
URL:https://coalitionrcd.org/event/workforce-development-for-adults-orientation/2023-01-26/
LOCATION:CA
ATTACH;FMTTYPE=image/jpeg:https://coalitionrcd.org/wp-content/uploads/2021/12/17E241F5-D195-48F1-B50C-470673392ACA.jpeg
END:VEVENT
BEGIN:VEVENT
DTSTART;TZID=America/Los_Angeles:20230126T100000
DTEND;TZID=America/Los_Angeles:20230126T120000
DTSTAMP:20260421T041655
CREATED:20211222T144342Z
LAST-MODIFIED:20250617T185706Z
UID:10003284-1674727200-1674734400@coalitionrcd.org
SUMMARY:Orientations – Vernon-Central/LATTC WorkSource Center
DESCRIPTION:Workforce Development for Adults – Orientation\nEvery Tuesday and Thursday’s – 10:00 AM\n  \nFor more information\, please contact or e-mail: \nVernon-Central/LATTC WorkSource Center at 213-763-5951 or 213-763-5914 \nEmail: worksource@coalitionrcd.org \nLocation: \nVernon-Central/LATTC WorkSource Center\n400 W Washington Blvd.\nLos Angeles\, CA 90015\nTom Bradley Center for Student Life(formerly Redwood Hall)
URL:https://coalitionrcd.org/event/workforce-development-for-adults-orientation/2023-01-26/
LOCATION:CA
ATTACH;FMTTYPE=image/jpeg:https://coalitionrcd.org/wp-content/uploads/2021/12/17E241F5-D195-48F1-B50C-470673392ACA.jpeg
END:VEVENT
BEGIN:VEVENT
DTSTART;TZID=America/Los_Angeles:20230126T120000
DTEND;TZID=America/Los_Angeles:20230126T140000
DTSTAMP:20260421T041655
CREATED:20230630T180129Z
LAST-MODIFIED:20230630T180129Z
UID:10002690-1674734400-1674741600@coalitionrcd.org
SUMMARY:Orientación (En Español) – Vernon-Central/LATTC WorkSource Center
DESCRIPTION:WIOA está diseñada para ayudar a los solicitantes de empleo a acceder a los servicios de empleo\, educación\, formación y apoyo para tener éxito en el mercado laboral y para poner en contacto a los empresarios con los trabajadores cualificados que necesitan para competir en la economía global. \nPara más información\, llame o envíe un mensaje de texto con la palabra “WIOA” al (323) 642-7765 o envíe un correo electrónico a wdd-youth@coalitionrcd.org.
URL:https://coalitionrcd.org/event/the-workforce-innovation-and-opportunity-act-wioa-orientation-spanish/2023-01-26/
LOCATION:Vernon-Central/LATTC WorkSource Center\, 400 W. Washington Blvd\, Los Angeles\, CA\, 90015\, United States
END:VEVENT
BEGIN:VEVENT
DTSTART;TZID=America/Los_Angeles:20230126T130000
DTEND;TZID=America/Los_Angeles:20230126T140000
DTSTAMP:20260421T041655
CREATED:20220520T224349Z
LAST-MODIFIED:20220520T224508Z
UID:10002512-1674738000-1674741600@coalitionrcd.org
SUMMARY:Workforce Development for Youth - Wednesday Orientation
DESCRIPTION:Workforce Development for Youth – Orientation\nEvery Wednesday – 1:00 PM\nVernon Central Network YouthSource Center\n1006 East 28th Street\nLos Angeles\, CA 90011
URL:https://coalitionrcd.org/event/workforce-development-for-youth-wednesday-orientation/2023-01-26/
LOCATION:CA
ATTACH;FMTTYPE=image/jpeg:https://coalitionrcd.org/wp-content/uploads/2021/08/eventsph-red.jpg
END:VEVENT
BEGIN:VEVENT
DTSTART;TZID=America/Los_Angeles:20230126T130000
DTEND;TZID=America/Los_Angeles:20230126T140000
DTSTAMP:20260421T041655
CREATED:20220822T195124Z
LAST-MODIFIED:20230201T212841Z
UID:10002586-1674738000-1674741600@coalitionrcd.org
SUMMARY:Financial Orientation Workshop - Vernon-Central/LATTC WorkSource Center
DESCRIPTION:Do you need to work on your finances? CRCD’s Financial Education Services helps individuals reach their goals and secure financial sustainability. We host weekly workshops that covers credit\, budgets\, and money management. During one-on-one sessions with a financial coach\, clients are given the opportunity to focus on the issues that are holding them back from achieving their financial goals. \n  \nIf you have any questions\, feel free to reach out to Veronica Vitela at (323) 433-1805 or vvitela@coalitionrcd.org
URL:https://coalitionrcd.org/event/resume-building-workshop/2023-01-26/
LOCATION:Vernon-Central/LATTC WorkSource Center\, 400 W. Washington Blvd\, Los Angeles\, CA\, 90015\, United States
END:VEVENT
BEGIN:VEVENT
DTSTART;TZID=America/Los_Angeles:20230126T140000
DTEND;TZID=America/Los_Angeles:20230126T150000
DTSTAMP:20260421T041655
CREATED:20220823T191704Z
LAST-MODIFIED:20230201T210024Z
UID:10002616-1674741600-1674745200@coalitionrcd.org
SUMMARY:Resume Building Workshop- Vernon-Central/LATTC WorkSource Center
DESCRIPTION:This resume workshop provides detailed explanations\, as well step-by-step processes\, for creating an effective resume. This Resume Building Workshop will help be excited to apply new ideas with greater confidence in taking the next steps toward preparing a resume that engages reviewers and leads to more interviews. We will share some examples of real resumes that have landed people jobs in security\, front desk\, construction\, bus drivers\, etc. \nFor more information\, please contact or e-mail: \nVernon-Central/LATTC WorkSource Center at 213-763-5951 or 213-763-5914 \nEmail: worksource@coalitionrcd.org \nLocation: \nLos Angeles Trade-Technical College \nTom Bradley Center for Student Life \n400 W Washington Blvd\, Los Angeles\, CA 90015
URL:https://coalitionrcd.org/event/resume-building-work-shop-3/2023-01-26/
LOCATION:Vernon-Central/LATTC WorkSource Center\, 400 W. Washington Blvd\, Los Angeles\, CA\, 90015\, United States
END:VEVENT
BEGIN:VEVENT
DTSTART;TZID=America/Los_Angeles:20230126T140000
DTEND;TZID=America/Los_Angeles:20230126T150000
DTSTAMP:20260421T041655
CREATED:20221011T215456Z
LAST-MODIFIED:20230504T175907Z
UID:10002796-1674741600-1674745200@coalitionrcd.org
SUMMARY:Financial Orientation Workshop - Vernon-Central/LATTC WorkSource Center
DESCRIPTION:Do you need to work on your finances? CRCD’s Financial Education Services helps individuals reach their goals and secure financial sustainability. We host weekly workshops that covers credit\, budgets\, and money management. During one-on-one sessions with a financial coach\, clients are given the opportunity to focus on the issues that are holding them back from achieving their financial goals. \n  \nIf you have any questions\, feel free to reach out to Veronica Vitela at (323) 433-1805 or vvitela@coalitionrcd.org
URL:https://coalitionrcd.org/event/financial-orientation-workshop-vernon-central-lattc-worksource-center/2023-01-26/
LOCATION:CA
END:VEVENT
BEGIN:VEVENT
DTSTART;TZID=America/Los_Angeles:20230126T174500
DTEND;TZID=America/Los_Angeles:20230126T183000
DTSTAMP:20260421T041655
CREATED:20221209T224851Z
LAST-MODIFIED:20230504T174158Z
UID:10002873-1674755100-1674757800@coalitionrcd.org
SUMMARY:Zumba Class
DESCRIPTION:Join us for a workout\, by mixing low-intensity and high-intensity moves for an interval-style\, calorie-burning dance fitness party. Once the music takes over\, you’ll see why Zumba classes are often called exercises in disguise. Super effective? Check. Super fun? Check and check. \nFor more information\, please contact the VCN YouthSource Center at the Historic YMCA on 28th street at 323-642-7765
URL:https://coalitionrcd.org/event/zumba-class/2023-01-26/
LOCATION:VCN YouthSource Center\, 1006 E 28th Street\, Los Angeles\, CA\, 90011
END:VEVENT
BEGIN:VEVENT
DTSTART;TZID=America/Los_Angeles:20230126T174500
DTEND;TZID=America/Los_Angeles:20230126T183000
DTSTAMP:20260421T041655
CREATED:20230630T180134Z
LAST-MODIFIED:20230630T180134Z
UID:10002896-1674755100-1674757800@coalitionrcd.org
SUMMARY:Zumba Class
DESCRIPTION:Join us for a workout\, by mixing low-intensity and high-intensity moves for an interval-style\, calorie-burning dance fitness party. Once the music takes over\, you’ll see why Zumba classes are often called exercises in disguise. Super effective? Check. Super fun? Check and check. \nFor more information\, please contact the VCN YouthSource Center at the Historic YMCA on 28th street at 323-642-7765
URL:https://coalitionrcd.org/event/zumba-class/2023-01-26/
LOCATION:VCN YouthSource Center\, 1006 E 28th Street\, Los Angeles\, CA\, 90011
END:VEVENT
END:VCALENDAR