BEGIN:VCALENDAR
VERSION:2.0
PRODID:-//CRCD - ECPv6.15.20//NONSGML v1.0//EN
CALSCALE:GREGORIAN
METHOD:PUBLISH
X-ORIGINAL-URL:https://coalitionrcd.org
X-WR-CALDESC:Events for CRCD
REFRESH-INTERVAL;VALUE=DURATION:PT1H
X-Robots-Tag:noindex
X-PUBLISHED-TTL:PT1H
BEGIN:VTIMEZONE
TZID:America/Los_Angeles
BEGIN:DAYLIGHT
TZOFFSETFROM:-0800
TZOFFSETTO:-0700
TZNAME:PDT
DTSTART:20230312T100000
END:DAYLIGHT
BEGIN:STANDARD
TZOFFSETFROM:-0700
TZOFFSETTO:-0800
TZNAME:PST
DTSTART:20231105T090000
END:STANDARD
BEGIN:DAYLIGHT
TZOFFSETFROM:-0800
TZOFFSETTO:-0700
TZNAME:PDT
DTSTART:20240310T100000
END:DAYLIGHT
BEGIN:STANDARD
TZOFFSETFROM:-0700
TZOFFSETTO:-0800
TZNAME:PST
DTSTART:20241103T090000
END:STANDARD
BEGIN:DAYLIGHT
TZOFFSETFROM:-0800
TZOFFSETTO:-0700
TZNAME:PDT
DTSTART:20250309T100000
END:DAYLIGHT
BEGIN:STANDARD
TZOFFSETFROM:-0700
TZOFFSETTO:-0800
TZNAME:PST
DTSTART:20251102T090000
END:STANDARD
END:VTIMEZONE
BEGIN:VEVENT
DTSTART;TZID=America/Los_Angeles:20241029T100000
DTEND;TZID=America/Los_Angeles:20241029T120000
DTSTAMP:20260421T070446
CREATED:20211222T144342Z
LAST-MODIFIED:20250618T082556Z
UID:10036670-1730196000-1730203200@coalitionrcd.org
SUMMARY:Orientations – Vernon-Central/LATTC WorkSource Center
DESCRIPTION:Workforce Development for Adults – Orientation\nEvery Tuesday and Thursday’s – 10:00 AM\n  \nFor more information\, please contact or e-mail: \nVernon-Central/LATTC WorkSource Center at 213-763-5951 or 213-763-5914 \nEmail: worksource@coalitionrcd.org \nLocation: \nVernon-Central/LATTC WorkSource Center\n400 W Washington Blvd.\nLos Angeles\, CA 90015\nTom Bradley Center for Student Life(formerly Redwood Hall)
URL:https://coalitionrcd.org/event/workforce-development-for-adults-orientation/2024-10-29/
ATTACH;FMTTYPE=image/jpeg:https://coalitionrcd.org/wp-content/uploads/2021/12/17E241F5-D195-48F1-B50C-470673392ACA.jpeg
END:VEVENT
BEGIN:VEVENT
DTSTART;TZID=America/Los_Angeles:20241029T100000
DTEND;TZID=America/Los_Angeles:20241029T120000
DTSTAMP:20260421T070446
CREATED:20211222T144342Z
LAST-MODIFIED:20250618T082557Z
UID:10037305-1730196000-1730203200@coalitionrcd.org
SUMMARY:Orientations – Vernon-Central/LATTC WorkSource Center
DESCRIPTION:Workforce Development for Adults – Orientation\nEvery Tuesday and Thursday’s – 10:00 AM\n  \nFor more information\, please contact or e-mail: \nVernon-Central/LATTC WorkSource Center at 213-763-5951 or 213-763-5914 \nEmail: worksource@coalitionrcd.org \nLocation: \nVernon-Central/LATTC WorkSource Center\n400 W Washington Blvd.\nLos Angeles\, CA 90015\nTom Bradley Center for Student Life(formerly Redwood Hall)
URL:https://coalitionrcd.org/event/workforce-development-for-adults-orientation/2024-10-29/
ATTACH;FMTTYPE=image/jpeg:https://coalitionrcd.org/wp-content/uploads/2021/12/17E241F5-D195-48F1-B50C-470673392ACA.jpeg
END:VEVENT
BEGIN:VEVENT
DTSTART;TZID=America/Los_Angeles:20241029T100000
DTEND;TZID=America/Los_Angeles:20241029T120000
DTSTAMP:20260421T070447
CREATED:20211222T144342Z
LAST-MODIFIED:20250618T082557Z
UID:10037939-1730196000-1730203200@coalitionrcd.org
SUMMARY:Orientations – Vernon-Central/LATTC WorkSource Center
DESCRIPTION:Workforce Development for Adults – Orientation\nEvery Tuesday and Thursday’s – 10:00 AM\n  \nFor more information\, please contact or e-mail: \nVernon-Central/LATTC WorkSource Center at 213-763-5951 or 213-763-5914 \nEmail: worksource@coalitionrcd.org \nLocation: \nVernon-Central/LATTC WorkSource Center\n400 W Washington Blvd.\nLos Angeles\, CA 90015\nTom Bradley Center for Student Life(formerly Redwood Hall)
URL:https://coalitionrcd.org/event/workforce-development-for-adults-orientation/2024-10-29/
ATTACH;FMTTYPE=image/jpeg:https://coalitionrcd.org/wp-content/uploads/2021/12/17E241F5-D195-48F1-B50C-470673392ACA.jpeg
END:VEVENT
BEGIN:VEVENT
DTSTART;TZID=America/Los_Angeles:20241029T100000
DTEND;TZID=America/Los_Angeles:20241029T120000
DTSTAMP:20260421T070447
CREATED:20211222T144342Z
LAST-MODIFIED:20250618T082558Z
UID:10038572-1730196000-1730203200@coalitionrcd.org
SUMMARY:Orientations – Vernon-Central/LATTC WorkSource Center
DESCRIPTION:Workforce Development for Adults – Orientation\nEvery Tuesday and Thursday’s – 10:00 AM\n  \nFor more information\, please contact or e-mail: \nVernon-Central/LATTC WorkSource Center at 213-763-5951 or 213-763-5914 \nEmail: worksource@coalitionrcd.org \nLocation: \nVernon-Central/LATTC WorkSource Center\n400 W Washington Blvd.\nLos Angeles\, CA 90015\nTom Bradley Center for Student Life(formerly Redwood Hall)
URL:https://coalitionrcd.org/event/workforce-development-for-adults-orientation/2024-10-29/
ATTACH;FMTTYPE=image/jpeg:https://coalitionrcd.org/wp-content/uploads/2021/12/17E241F5-D195-48F1-B50C-470673392ACA.jpeg
END:VEVENT
BEGIN:VEVENT
DTSTART;TZID=America/Los_Angeles:20241029T100000
DTEND;TZID=America/Los_Angeles:20241029T120000
DTSTAMP:20260421T070447
CREATED:20211222T144342Z
LAST-MODIFIED:20250618T082559Z
UID:10039204-1730196000-1730203200@coalitionrcd.org
SUMMARY:Orientations – Vernon-Central/LATTC WorkSource Center
DESCRIPTION:Workforce Development for Adults – Orientation\nEvery Tuesday and Thursday’s – 10:00 AM\n  \nFor more information\, please contact or e-mail: \nVernon-Central/LATTC WorkSource Center at 213-763-5951 or 213-763-5914 \nEmail: worksource@coalitionrcd.org \nLocation: \nVernon-Central/LATTC WorkSource Center\n400 W Washington Blvd.\nLos Angeles\, CA 90015\nTom Bradley Center for Student Life(formerly Redwood Hall)
URL:https://coalitionrcd.org/event/workforce-development-for-adults-orientation/2024-10-29/
ATTACH;FMTTYPE=image/jpeg:https://coalitionrcd.org/wp-content/uploads/2021/12/17E241F5-D195-48F1-B50C-470673392ACA.jpeg
END:VEVENT
BEGIN:VEVENT
DTSTART;TZID=America/Los_Angeles:20241029T100000
DTEND;TZID=America/Los_Angeles:20241029T120000
DTSTAMP:20260421T070447
CREATED:20211222T144342Z
LAST-MODIFIED:20250618T082559Z
UID:10039835-1730196000-1730203200@coalitionrcd.org
SUMMARY:Orientations – Vernon-Central/LATTC WorkSource Center
DESCRIPTION:Workforce Development for Adults – Orientation\nEvery Tuesday and Thursday’s – 10:00 AM\n  \nFor more information\, please contact or e-mail: \nVernon-Central/LATTC WorkSource Center at 213-763-5951 or 213-763-5914 \nEmail: worksource@coalitionrcd.org \nLocation: \nVernon-Central/LATTC WorkSource Center\n400 W Washington Blvd.\nLos Angeles\, CA 90015\nTom Bradley Center for Student Life(formerly Redwood Hall)
URL:https://coalitionrcd.org/event/workforce-development-for-adults-orientation/2024-10-29/
ATTACH;FMTTYPE=image/jpeg:https://coalitionrcd.org/wp-content/uploads/2021/12/17E241F5-D195-48F1-B50C-470673392ACA.jpeg
END:VEVENT
BEGIN:VEVENT
DTSTART;TZID=America/Los_Angeles:20241029T100000
DTEND;TZID=America/Los_Angeles:20241029T120000
DTSTAMP:20260421T070447
CREATED:20211222T144342Z
LAST-MODIFIED:20250618T082600Z
UID:10040465-1730196000-1730203200@coalitionrcd.org
SUMMARY:Orientations – Vernon-Central/LATTC WorkSource Center
DESCRIPTION:Workforce Development for Adults – Orientation\nEvery Tuesday and Thursday’s – 10:00 AM\n  \nFor more information\, please contact or e-mail: \nVernon-Central/LATTC WorkSource Center at 213-763-5951 or 213-763-5914 \nEmail: worksource@coalitionrcd.org \nLocation: \nVernon-Central/LATTC WorkSource Center\n400 W Washington Blvd.\nLos Angeles\, CA 90015\nTom Bradley Center for Student Life(formerly Redwood Hall)
URL:https://coalitionrcd.org/event/workforce-development-for-adults-orientation/2024-10-29/
ATTACH;FMTTYPE=image/jpeg:https://coalitionrcd.org/wp-content/uploads/2021/12/17E241F5-D195-48F1-B50C-470673392ACA.jpeg
END:VEVENT
BEGIN:VEVENT
DTSTART;TZID=America/Los_Angeles:20241029T100000
DTEND;TZID=America/Los_Angeles:20241029T120000
DTSTAMP:20260421T070447
CREATED:20211222T144342Z
LAST-MODIFIED:20230629T173805Z
UID:10001871-1730196000-1730203200@coalitionrcd.org
SUMMARY:Orientations – Vernon-Central/LATTC WorkSource Center
DESCRIPTION:Workforce Development for Adults – Orientation\nEvery Tuesday and Thursday’s – 10:00 AM\n  \nFor more information\, please contact or e-mail: \nVernon-Central/LATTC WorkSource Center at 213-763-5951 or 213-763-5914 \nEmail: worksource@coalitionrcd.org \nLocation: \nVernon-Central/LATTC WorkSource Center\n400 W Washington Blvd.\nLos Angeles\, CA 90015\nTom Bradley Center for Student Life(formerly Redwood Hall)
URL:https://coalitionrcd.org/event/workforce-development-for-adults-orientation/2024-10-29/
ATTACH;FMTTYPE=image/jpeg:https://coalitionrcd.org/wp-content/uploads/2021/12/17E241F5-D195-48F1-B50C-470673392ACA.jpeg
END:VEVENT
BEGIN:VEVENT
DTSTART;TZID=America/Los_Angeles:20241029T100000
DTEND;TZID=America/Los_Angeles:20241029T120000
DTSTAMP:20260421T070447
CREATED:20211222T144342Z
LAST-MODIFIED:20250617T185706Z
UID:10003466-1730196000-1730203200@coalitionrcd.org
SUMMARY:Orientations – Vernon-Central/LATTC WorkSource Center
DESCRIPTION:Workforce Development for Adults – Orientation\nEvery Tuesday and Thursday’s – 10:00 AM\n  \nFor more information\, please contact or e-mail: \nVernon-Central/LATTC WorkSource Center at 213-763-5951 or 213-763-5914 \nEmail: worksource@coalitionrcd.org \nLocation: \nVernon-Central/LATTC WorkSource Center\n400 W Washington Blvd.\nLos Angeles\, CA 90015\nTom Bradley Center for Student Life(formerly Redwood Hall)
URL:https://coalitionrcd.org/event/workforce-development-for-adults-orientation/2024-10-29/
ATTACH;FMTTYPE=image/jpeg:https://coalitionrcd.org/wp-content/uploads/2021/12/17E241F5-D195-48F1-B50C-470673392ACA.jpeg
END:VEVENT
BEGIN:VEVENT
DTSTART;TZID=America/Los_Angeles:20241029T100000
DTEND;TZID=America/Los_Angeles:20241029T120000
DTSTAMP:20260421T070447
CREATED:20211222T144342Z
LAST-MODIFIED:20250617T185709Z
UID:10004308-1730196000-1730203200@coalitionrcd.org
SUMMARY:Orientations – Vernon-Central/LATTC WorkSource Center
DESCRIPTION:Workforce Development for Adults – Orientation\nEvery Tuesday and Thursday’s – 10:00 AM\n  \nFor more information\, please contact or e-mail: \nVernon-Central/LATTC WorkSource Center at 213-763-5951 or 213-763-5914 \nEmail: worksource@coalitionrcd.org \nLocation: \nVernon-Central/LATTC WorkSource Center\n400 W Washington Blvd.\nLos Angeles\, CA 90015\nTom Bradley Center for Student Life(formerly Redwood Hall)
URL:https://coalitionrcd.org/event/workforce-development-for-adults-orientation/2024-10-29/
ATTACH;FMTTYPE=image/jpeg:https://coalitionrcd.org/wp-content/uploads/2021/12/17E241F5-D195-48F1-B50C-470673392ACA.jpeg
END:VEVENT
BEGIN:VEVENT
DTSTART;TZID=America/Los_Angeles:20241029T100000
DTEND;TZID=America/Los_Angeles:20241029T120000
DTSTAMP:20260421T070447
CREATED:20211222T144342Z
LAST-MODIFIED:20250617T185710Z
UID:10005149-1730196000-1730203200@coalitionrcd.org
SUMMARY:Orientations – Vernon-Central/LATTC WorkSource Center
DESCRIPTION:Workforce Development for Adults – Orientation\nEvery Tuesday and Thursday’s – 10:00 AM\n  \nFor more information\, please contact or e-mail: \nVernon-Central/LATTC WorkSource Center at 213-763-5951 or 213-763-5914 \nEmail: worksource@coalitionrcd.org \nLocation: \nVernon-Central/LATTC WorkSource Center\n400 W Washington Blvd.\nLos Angeles\, CA 90015\nTom Bradley Center for Student Life(formerly Redwood Hall)
URL:https://coalitionrcd.org/event/workforce-development-for-adults-orientation/2024-10-29/
ATTACH;FMTTYPE=image/jpeg:https://coalitionrcd.org/wp-content/uploads/2021/12/17E241F5-D195-48F1-B50C-470673392ACA.jpeg
END:VEVENT
BEGIN:VEVENT
DTSTART;TZID=America/Los_Angeles:20241029T100000
DTEND;TZID=America/Los_Angeles:20241029T120000
DTSTAMP:20260421T070447
CREATED:20211222T144342Z
LAST-MODIFIED:20250617T185712Z
UID:10005989-1730196000-1730203200@coalitionrcd.org
SUMMARY:Orientations – Vernon-Central/LATTC WorkSource Center
DESCRIPTION:Workforce Development for Adults – Orientation\nEvery Tuesday and Thursday’s – 10:00 AM\n  \nFor more information\, please contact or e-mail: \nVernon-Central/LATTC WorkSource Center at 213-763-5951 or 213-763-5914 \nEmail: worksource@coalitionrcd.org \nLocation: \nVernon-Central/LATTC WorkSource Center\n400 W Washington Blvd.\nLos Angeles\, CA 90015\nTom Bradley Center for Student Life(formerly Redwood Hall)
URL:https://coalitionrcd.org/event/workforce-development-for-adults-orientation/2024-10-29/
ATTACH;FMTTYPE=image/jpeg:https://coalitionrcd.org/wp-content/uploads/2021/12/17E241F5-D195-48F1-B50C-470673392ACA.jpeg
END:VEVENT
BEGIN:VEVENT
DTSTART;TZID=America/Los_Angeles:20241029T100000
DTEND;TZID=America/Los_Angeles:20241029T120000
DTSTAMP:20260421T070447
CREATED:20211222T144342Z
LAST-MODIFIED:20250617T185714Z
UID:10006828-1730196000-1730203200@coalitionrcd.org
SUMMARY:Orientations – Vernon-Central/LATTC WorkSource Center
DESCRIPTION:Workforce Development for Adults – Orientation\nEvery Tuesday and Thursday’s – 10:00 AM\n  \nFor more information\, please contact or e-mail: \nVernon-Central/LATTC WorkSource Center at 213-763-5951 or 213-763-5914 \nEmail: worksource@coalitionrcd.org \nLocation: \nVernon-Central/LATTC WorkSource Center\n400 W Washington Blvd.\nLos Angeles\, CA 90015\nTom Bradley Center for Student Life(formerly Redwood Hall)
URL:https://coalitionrcd.org/event/workforce-development-for-adults-orientation/2024-10-29/
ATTACH;FMTTYPE=image/jpeg:https://coalitionrcd.org/wp-content/uploads/2021/12/17E241F5-D195-48F1-B50C-470673392ACA.jpeg
END:VEVENT
BEGIN:VEVENT
DTSTART;TZID=America/Los_Angeles:20241029T100000
DTEND;TZID=America/Los_Angeles:20241029T120000
DTSTAMP:20260421T070447
CREATED:20211222T144342Z
LAST-MODIFIED:20250617T185716Z
UID:10007666-1730196000-1730203200@coalitionrcd.org
SUMMARY:Orientations – Vernon-Central/LATTC WorkSource Center
DESCRIPTION:Workforce Development for Adults – Orientation\nEvery Tuesday and Thursday’s – 10:00 AM\n  \nFor more information\, please contact or e-mail: \nVernon-Central/LATTC WorkSource Center at 213-763-5951 or 213-763-5914 \nEmail: worksource@coalitionrcd.org \nLocation: \nVernon-Central/LATTC WorkSource Center\n400 W Washington Blvd.\nLos Angeles\, CA 90015\nTom Bradley Center for Student Life(formerly Redwood Hall)
URL:https://coalitionrcd.org/event/workforce-development-for-adults-orientation/2024-10-29/
ATTACH;FMTTYPE=image/jpeg:https://coalitionrcd.org/wp-content/uploads/2021/12/17E241F5-D195-48F1-B50C-470673392ACA.jpeg
END:VEVENT
BEGIN:VEVENT
DTSTART;TZID=America/Los_Angeles:20241029T100000
DTEND;TZID=America/Los_Angeles:20241029T120000
DTSTAMP:20260421T070447
CREATED:20211222T144342Z
LAST-MODIFIED:20250617T185718Z
UID:10008503-1730196000-1730203200@coalitionrcd.org
SUMMARY:Orientations – Vernon-Central/LATTC WorkSource Center
DESCRIPTION:Workforce Development for Adults – Orientation\nEvery Tuesday and Thursday’s – 10:00 AM\n  \nFor more information\, please contact or e-mail: \nVernon-Central/LATTC WorkSource Center at 213-763-5951 or 213-763-5914 \nEmail: worksource@coalitionrcd.org \nLocation: \nVernon-Central/LATTC WorkSource Center\n400 W Washington Blvd.\nLos Angeles\, CA 90015\nTom Bradley Center for Student Life(formerly Redwood Hall)
URL:https://coalitionrcd.org/event/workforce-development-for-adults-orientation/2024-10-29/
ATTACH;FMTTYPE=image/jpeg:https://coalitionrcd.org/wp-content/uploads/2021/12/17E241F5-D195-48F1-B50C-470673392ACA.jpeg
END:VEVENT
BEGIN:VEVENT
DTSTART;TZID=America/Los_Angeles:20241029T100000
DTEND;TZID=America/Los_Angeles:20241029T120000
DTSTAMP:20260421T070447
CREATED:20211222T144342Z
LAST-MODIFIED:20250617T222530Z
UID:10023639-1730196000-1730203200@coalitionrcd.org
SUMMARY:Orientations – Vernon-Central/LATTC WorkSource Center
DESCRIPTION:Workforce Development for Adults – Orientation\nEvery Tuesday and Thursday’s – 10:00 AM\n  \nFor more information\, please contact or e-mail: \nVernon-Central/LATTC WorkSource Center at 213-763-5951 or 213-763-5914 \nEmail: worksource@coalitionrcd.org \nLocation: \nVernon-Central/LATTC WorkSource Center\n400 W Washington Blvd.\nLos Angeles\, CA 90015\nTom Bradley Center for Student Life(formerly Redwood Hall)
URL:https://coalitionrcd.org/event/workforce-development-for-adults-orientation/2024-10-29/
ATTACH;FMTTYPE=image/jpeg:https://coalitionrcd.org/wp-content/uploads/2021/12/17E241F5-D195-48F1-B50C-470673392ACA.jpeg
END:VEVENT
BEGIN:VEVENT
DTSTART;TZID=America/Los_Angeles:20241029T100000
DTEND;TZID=America/Los_Angeles:20241029T120000
DTSTAMP:20260421T070447
CREATED:20211222T144342Z
LAST-MODIFIED:20250617T222531Z
UID:10024380-1730196000-1730203200@coalitionrcd.org
SUMMARY:Orientations – Vernon-Central/LATTC WorkSource Center
DESCRIPTION:Workforce Development for Adults – Orientation\nEvery Tuesday and Thursday’s – 10:00 AM\n  \nFor more information\, please contact or e-mail: \nVernon-Central/LATTC WorkSource Center at 213-763-5951 or 213-763-5914 \nEmail: worksource@coalitionrcd.org \nLocation: \nVernon-Central/LATTC WorkSource Center\n400 W Washington Blvd.\nLos Angeles\, CA 90015\nTom Bradley Center for Student Life(formerly Redwood Hall)
URL:https://coalitionrcd.org/event/workforce-development-for-adults-orientation/2024-10-29/
ATTACH;FMTTYPE=image/jpeg:https://coalitionrcd.org/wp-content/uploads/2021/12/17E241F5-D195-48F1-B50C-470673392ACA.jpeg
END:VEVENT
BEGIN:VEVENT
DTSTART;TZID=America/Los_Angeles:20241029T100000
DTEND;TZID=America/Los_Angeles:20241029T120000
DTSTAMP:20260421T070447
CREATED:20211222T144342Z
LAST-MODIFIED:20250617T222532Z
UID:10025120-1730196000-1730203200@coalitionrcd.org
SUMMARY:Orientations – Vernon-Central/LATTC WorkSource Center
DESCRIPTION:Workforce Development for Adults – Orientation\nEvery Tuesday and Thursday’s – 10:00 AM\n  \nFor more information\, please contact or e-mail: \nVernon-Central/LATTC WorkSource Center at 213-763-5951 or 213-763-5914 \nEmail: worksource@coalitionrcd.org \nLocation: \nVernon-Central/LATTC WorkSource Center\n400 W Washington Blvd.\nLos Angeles\, CA 90015\nTom Bradley Center for Student Life(formerly Redwood Hall)
URL:https://coalitionrcd.org/event/workforce-development-for-adults-orientation/2024-10-29/
ATTACH;FMTTYPE=image/jpeg:https://coalitionrcd.org/wp-content/uploads/2021/12/17E241F5-D195-48F1-B50C-470673392ACA.jpeg
END:VEVENT
BEGIN:VEVENT
DTSTART;TZID=America/Los_Angeles:20241029T100000
DTEND;TZID=America/Los_Angeles:20241029T120000
DTSTAMP:20260421T070447
CREATED:20211222T144342Z
LAST-MODIFIED:20250617T222533Z
UID:10025859-1730196000-1730203200@coalitionrcd.org
SUMMARY:Orientations – Vernon-Central/LATTC WorkSource Center
DESCRIPTION:Workforce Development for Adults – Orientation\nEvery Tuesday and Thursday’s – 10:00 AM\n  \nFor more information\, please contact or e-mail: \nVernon-Central/LATTC WorkSource Center at 213-763-5951 or 213-763-5914 \nEmail: worksource@coalitionrcd.org \nLocation: \nVernon-Central/LATTC WorkSource Center\n400 W Washington Blvd.\nLos Angeles\, CA 90015\nTom Bradley Center for Student Life(formerly Redwood Hall)
URL:https://coalitionrcd.org/event/workforce-development-for-adults-orientation/2024-10-29/
ATTACH;FMTTYPE=image/jpeg:https://coalitionrcd.org/wp-content/uploads/2021/12/17E241F5-D195-48F1-B50C-470673392ACA.jpeg
END:VEVENT
BEGIN:VEVENT
DTSTART;TZID=America/Los_Angeles:20241029T100000
DTEND;TZID=America/Los_Angeles:20241029T120000
DTSTAMP:20260421T070447
CREATED:20211222T144342Z
LAST-MODIFIED:20250617T222534Z
UID:10026597-1730196000-1730203200@coalitionrcd.org
SUMMARY:Orientations – Vernon-Central/LATTC WorkSource Center
DESCRIPTION:Workforce Development for Adults – Orientation\nEvery Tuesday and Thursday’s – 10:00 AM\n  \nFor more information\, please contact or e-mail: \nVernon-Central/LATTC WorkSource Center at 213-763-5951 or 213-763-5914 \nEmail: worksource@coalitionrcd.org \nLocation: \nVernon-Central/LATTC WorkSource Center\n400 W Washington Blvd.\nLos Angeles\, CA 90015\nTom Bradley Center for Student Life(formerly Redwood Hall)
URL:https://coalitionrcd.org/event/workforce-development-for-adults-orientation/2024-10-29/
ATTACH;FMTTYPE=image/jpeg:https://coalitionrcd.org/wp-content/uploads/2021/12/17E241F5-D195-48F1-B50C-470673392ACA.jpeg
END:VEVENT
BEGIN:VEVENT
DTSTART;TZID=America/Los_Angeles:20241029T100000
DTEND;TZID=America/Los_Angeles:20241029T120000
DTSTAMP:20260421T070447
CREATED:20211222T144342Z
LAST-MODIFIED:20250617T222535Z
UID:10027334-1730196000-1730203200@coalitionrcd.org
SUMMARY:Orientations – Vernon-Central/LATTC WorkSource Center
DESCRIPTION:Workforce Development for Adults – Orientation\nEvery Tuesday and Thursday’s – 10:00 AM\n  \nFor more information\, please contact or e-mail: \nVernon-Central/LATTC WorkSource Center at 213-763-5951 or 213-763-5914 \nEmail: worksource@coalitionrcd.org \nLocation: \nVernon-Central/LATTC WorkSource Center\n400 W Washington Blvd.\nLos Angeles\, CA 90015\nTom Bradley Center for Student Life(formerly Redwood Hall)
URL:https://coalitionrcd.org/event/workforce-development-for-adults-orientation/2024-10-29/
ATTACH;FMTTYPE=image/jpeg:https://coalitionrcd.org/wp-content/uploads/2021/12/17E241F5-D195-48F1-B50C-470673392ACA.jpeg
END:VEVENT
BEGIN:VEVENT
DTSTART;TZID=America/Los_Angeles:20241029T100000
DTEND;TZID=America/Los_Angeles:20241029T120000
DTSTAMP:20260421T070447
CREATED:20211222T144342Z
LAST-MODIFIED:20250617T185731Z
UID:10019384-1730196000-1730203200@coalitionrcd.org
SUMMARY:Orientations – Vernon-Central/LATTC WorkSource Center
DESCRIPTION:Workforce Development for Adults – Orientation\nEvery Tuesday and Thursday’s – 10:00 AM\n  \nFor more information\, please contact or e-mail: \nVernon-Central/LATTC WorkSource Center at 213-763-5951 or 213-763-5914 \nEmail: worksource@coalitionrcd.org \nLocation: \nVernon-Central/LATTC WorkSource Center\n400 W Washington Blvd.\nLos Angeles\, CA 90015\nTom Bradley Center for Student Life(formerly Redwood Hall)
URL:https://coalitionrcd.org/event/workforce-development-for-adults-orientation/2024-10-29/
ATTACH;FMTTYPE=image/jpeg:https://coalitionrcd.org/wp-content/uploads/2021/12/17E241F5-D195-48F1-B50C-470673392ACA.jpeg
END:VEVENT
BEGIN:VEVENT
DTSTART;TZID=America/Los_Angeles:20241029T100000
DTEND;TZID=America/Los_Angeles:20241029T120000
DTSTAMP:20260421T070447
CREATED:20211222T144342Z
LAST-MODIFIED:20250617T185726Z
UID:10020914-1730196000-1730203200@coalitionrcd.org
SUMMARY:Orientations – Vernon-Central/LATTC WorkSource Center
DESCRIPTION:Workforce Development for Adults – Orientation\nEvery Tuesday and Thursday’s – 10:00 AM\n  \nFor more information\, please contact or e-mail: \nVernon-Central/LATTC WorkSource Center at 213-763-5951 or 213-763-5914 \nEmail: worksource@coalitionrcd.org \nLocation: \nVernon-Central/LATTC WorkSource Center\n400 W Washington Blvd.\nLos Angeles\, CA 90015\nTom Bradley Center for Student Life(formerly Redwood Hall)
URL:https://coalitionrcd.org/event/workforce-development-for-adults-orientation/2024-10-29/
ATTACH;FMTTYPE=image/jpeg:https://coalitionrcd.org/wp-content/uploads/2021/12/17E241F5-D195-48F1-B50C-470673392ACA.jpeg
END:VEVENT
BEGIN:VEVENT
DTSTART;TZID=America/Los_Angeles:20241029T100000
DTEND;TZID=America/Los_Angeles:20241029T120000
DTSTAMP:20260421T070447
CREATED:20211222T144342Z
LAST-MODIFIED:20250617T185727Z
UID:10021692-1730196000-1730203200@coalitionrcd.org
SUMMARY:Orientations – Vernon-Central/LATTC WorkSource Center
DESCRIPTION:Workforce Development for Adults – Orientation\nEvery Tuesday and Thursday’s – 10:00 AM\n  \nFor more information\, please contact or e-mail: \nVernon-Central/LATTC WorkSource Center at 213-763-5951 or 213-763-5914 \nEmail: worksource@coalitionrcd.org \nLocation: \nVernon-Central/LATTC WorkSource Center\n400 W Washington Blvd.\nLos Angeles\, CA 90015\nTom Bradley Center for Student Life(formerly Redwood Hall)
URL:https://coalitionrcd.org/event/workforce-development-for-adults-orientation/2024-10-29/
ATTACH;FMTTYPE=image/jpeg:https://coalitionrcd.org/wp-content/uploads/2021/12/17E241F5-D195-48F1-B50C-470673392ACA.jpeg
END:VEVENT
BEGIN:VEVENT
DTSTART;TZID=America/Los_Angeles:20241029T100000
DTEND;TZID=America/Los_Angeles:20241029T120000
DTSTAMP:20260421T070447
CREATED:20211222T144342Z
LAST-MODIFIED:20250617T222529Z
UID:10022897-1730196000-1730203200@coalitionrcd.org
SUMMARY:Orientations – Vernon-Central/LATTC WorkSource Center
DESCRIPTION:Workforce Development for Adults – Orientation\nEvery Tuesday and Thursday’s – 10:00 AM\n  \nFor more information\, please contact or e-mail: \nVernon-Central/LATTC WorkSource Center at 213-763-5951 or 213-763-5914 \nEmail: worksource@coalitionrcd.org \nLocation: \nVernon-Central/LATTC WorkSource Center\n400 W Washington Blvd.\nLos Angeles\, CA 90015\nTom Bradley Center for Student Life(formerly Redwood Hall)
URL:https://coalitionrcd.org/event/workforce-development-for-adults-orientation/2024-10-29/
ATTACH;FMTTYPE=image/jpeg:https://coalitionrcd.org/wp-content/uploads/2021/12/17E241F5-D195-48F1-B50C-470673392ACA.jpeg
END:VEVENT
BEGIN:VEVENT
DTSTART;TZID=America/Los_Angeles:20241029T100000
DTEND;TZID=America/Los_Angeles:20241029T120000
DTSTAMP:20260421T070447
CREATED:20211222T144342Z
LAST-MODIFIED:20250618T082553Z
UID:10032839-1730196000-1730203200@coalitionrcd.org
SUMMARY:Orientations – Vernon-Central/LATTC WorkSource Center
DESCRIPTION:Workforce Development for Adults – Orientation\nEvery Tuesday and Thursday’s – 10:00 AM\n  \nFor more information\, please contact or e-mail: \nVernon-Central/LATTC WorkSource Center at 213-763-5951 or 213-763-5914 \nEmail: worksource@coalitionrcd.org \nLocation: \nVernon-Central/LATTC WorkSource Center\n400 W Washington Blvd.\nLos Angeles\, CA 90015\nTom Bradley Center for Student Life(formerly Redwood Hall)
URL:https://coalitionrcd.org/event/workforce-development-for-adults-orientation/2024-10-29/
ATTACH;FMTTYPE=image/jpeg:https://coalitionrcd.org/wp-content/uploads/2021/12/17E241F5-D195-48F1-B50C-470673392ACA.jpeg
END:VEVENT
BEGIN:VEVENT
DTSTART;TZID=America/Los_Angeles:20241029T100000
DTEND;TZID=America/Los_Angeles:20241029T120000
DTSTAMP:20260421T070447
CREATED:20211222T144342Z
LAST-MODIFIED:20250618T082553Z
UID:10033480-1730196000-1730203200@coalitionrcd.org
SUMMARY:Orientations – Vernon-Central/LATTC WorkSource Center
DESCRIPTION:Workforce Development for Adults – Orientation\nEvery Tuesday and Thursday’s – 10:00 AM\n  \nFor more information\, please contact or e-mail: \nVernon-Central/LATTC WorkSource Center at 213-763-5951 or 213-763-5914 \nEmail: worksource@coalitionrcd.org \nLocation: \nVernon-Central/LATTC WorkSource Center\n400 W Washington Blvd.\nLos Angeles\, CA 90015\nTom Bradley Center for Student Life(formerly Redwood Hall)
URL:https://coalitionrcd.org/event/workforce-development-for-adults-orientation/2024-10-29/
ATTACH;FMTTYPE=image/jpeg:https://coalitionrcd.org/wp-content/uploads/2021/12/17E241F5-D195-48F1-B50C-470673392ACA.jpeg
END:VEVENT
BEGIN:VEVENT
DTSTART;TZID=America/Los_Angeles:20241029T100000
DTEND;TZID=America/Los_Angeles:20241029T120000
DTSTAMP:20260421T070447
CREATED:20211222T144342Z
LAST-MODIFIED:20250618T082554Z
UID:10034120-1730196000-1730203200@coalitionrcd.org
SUMMARY:Orientations – Vernon-Central/LATTC WorkSource Center
DESCRIPTION:Workforce Development for Adults – Orientation\nEvery Tuesday and Thursday’s – 10:00 AM\n  \nFor more information\, please contact or e-mail: \nVernon-Central/LATTC WorkSource Center at 213-763-5951 or 213-763-5914 \nEmail: worksource@coalitionrcd.org \nLocation: \nVernon-Central/LATTC WorkSource Center\n400 W Washington Blvd.\nLos Angeles\, CA 90015\nTom Bradley Center for Student Life(formerly Redwood Hall)
URL:https://coalitionrcd.org/event/workforce-development-for-adults-orientation/2024-10-29/
ATTACH;FMTTYPE=image/jpeg:https://coalitionrcd.org/wp-content/uploads/2021/12/17E241F5-D195-48F1-B50C-470673392ACA.jpeg
END:VEVENT
BEGIN:VEVENT
DTSTART;TZID=America/Los_Angeles:20241029T100000
DTEND;TZID=America/Los_Angeles:20241029T120000
DTSTAMP:20260421T070447
CREATED:20211222T144342Z
LAST-MODIFIED:20250618T082554Z
UID:10034759-1730196000-1730203200@coalitionrcd.org
SUMMARY:Orientations – Vernon-Central/LATTC WorkSource Center
DESCRIPTION:Workforce Development for Adults – Orientation\nEvery Tuesday and Thursday’s – 10:00 AM\n  \nFor more information\, please contact or e-mail: \nVernon-Central/LATTC WorkSource Center at 213-763-5951 or 213-763-5914 \nEmail: worksource@coalitionrcd.org \nLocation: \nVernon-Central/LATTC WorkSource Center\n400 W Washington Blvd.\nLos Angeles\, CA 90015\nTom Bradley Center for Student Life(formerly Redwood Hall)
URL:https://coalitionrcd.org/event/workforce-development-for-adults-orientation/2024-10-29/
ATTACH;FMTTYPE=image/jpeg:https://coalitionrcd.org/wp-content/uploads/2021/12/17E241F5-D195-48F1-B50C-470673392ACA.jpeg
END:VEVENT
BEGIN:VEVENT
DTSTART;TZID=America/Los_Angeles:20241029T100000
DTEND;TZID=America/Los_Angeles:20241029T120000
DTSTAMP:20260421T070447
CREATED:20211222T144342Z
LAST-MODIFIED:20250618T082555Z
UID:10035397-1730196000-1730203200@coalitionrcd.org
SUMMARY:Orientations – Vernon-Central/LATTC WorkSource Center
DESCRIPTION:Workforce Development for Adults – Orientation\nEvery Tuesday and Thursday’s – 10:00 AM\n  \nFor more information\, please contact or e-mail: \nVernon-Central/LATTC WorkSource Center at 213-763-5951 or 213-763-5914 \nEmail: worksource@coalitionrcd.org \nLocation: \nVernon-Central/LATTC WorkSource Center\n400 W Washington Blvd.\nLos Angeles\, CA 90015\nTom Bradley Center for Student Life(formerly Redwood Hall)
URL:https://coalitionrcd.org/event/workforce-development-for-adults-orientation/2024-10-29/
ATTACH;FMTTYPE=image/jpeg:https://coalitionrcd.org/wp-content/uploads/2021/12/17E241F5-D195-48F1-B50C-470673392ACA.jpeg
END:VEVENT
END:VCALENDAR