BEGIN:VCALENDAR
VERSION:2.0
PRODID:-//CRCD - ECPv6.15.20//NONSGML v1.0//EN
CALSCALE:GREGORIAN
METHOD:PUBLISH
X-WR-CALNAME:CRCD
X-ORIGINAL-URL:https://coalitionrcd.org
X-WR-CALDESC:Events for CRCD
REFRESH-INTERVAL;VALUE=DURATION:PT1H
X-Robots-Tag:noindex
X-PUBLISHED-TTL:PT1H
BEGIN:VTIMEZONE
TZID:America/Los_Angeles
BEGIN:DAYLIGHT
TZOFFSETFROM:-0800
TZOFFSETTO:-0700
TZNAME:PDT
DTSTART:20250309T100000
END:DAYLIGHT
BEGIN:STANDARD
TZOFFSETFROM:-0700
TZOFFSETTO:-0800
TZNAME:PST
DTSTART:20251102T090000
END:STANDARD
BEGIN:DAYLIGHT
TZOFFSETFROM:-0800
TZOFFSETTO:-0700
TZNAME:PDT
DTSTART:20260308T100000
END:DAYLIGHT
BEGIN:STANDARD
TZOFFSETFROM:-0700
TZOFFSETTO:-0800
TZNAME:PST
DTSTART:20261101T090000
END:STANDARD
BEGIN:DAYLIGHT
TZOFFSETFROM:-0800
TZOFFSETTO:-0700
TZNAME:PDT
DTSTART:20270314T100000
END:DAYLIGHT
BEGIN:STANDARD
TZOFFSETFROM:-0700
TZOFFSETTO:-0800
TZNAME:PST
DTSTART:20271107T090000
END:STANDARD
END:VTIMEZONE
BEGIN:VEVENT
DTSTART;TZID=America/Los_Angeles:20260421T100000
DTEND;TZID=America/Los_Angeles:20260421T120000
DTSTAMP:20260421T054012
CREATED:20211222T144342Z
LAST-MODIFIED:20250617T222529Z
UID:10023051-1776765600-1776772800@coalitionrcd.org
SUMMARY:Orientations – Vernon-Central/LATTC WorkSource Center
DESCRIPTION:Workforce Development for Adults – Orientation\nEvery Tuesday and Thursday’s – 10:00 AM\n  \nFor more information\, please contact or e-mail: \nVernon-Central/LATTC WorkSource Center at 213-763-5951 or 213-763-5914 \nEmail: worksource@coalitionrcd.org \nLocation: \nVernon-Central/LATTC WorkSource Center\n400 W Washington Blvd.\nLos Angeles\, CA 90015\nTom Bradley Center for Student Life(formerly Redwood Hall)
URL:https://coalitionrcd.org/event/workforce-development-for-adults-orientation/2026-04-21/
ATTACH;FMTTYPE=image/jpeg:https://coalitionrcd.org/wp-content/uploads/2021/12/17E241F5-D195-48F1-B50C-470673392ACA.jpeg
END:VEVENT
BEGIN:VEVENT
DTSTART;TZID=America/Los_Angeles:20260421T100000
DTEND;TZID=America/Los_Angeles:20260421T120000
DTSTAMP:20260421T054012
CREATED:20211222T144342Z
LAST-MODIFIED:20250617T222530Z
UID:10023793-1776765600-1776772800@coalitionrcd.org
SUMMARY:Orientations – Vernon-Central/LATTC WorkSource Center
DESCRIPTION:Workforce Development for Adults – Orientation\nEvery Tuesday and Thursday’s – 10:00 AM\n  \nFor more information\, please contact or e-mail: \nVernon-Central/LATTC WorkSource Center at 213-763-5951 or 213-763-5914 \nEmail: worksource@coalitionrcd.org \nLocation: \nVernon-Central/LATTC WorkSource Center\n400 W Washington Blvd.\nLos Angeles\, CA 90015\nTom Bradley Center for Student Life(formerly Redwood Hall)
URL:https://coalitionrcd.org/event/workforce-development-for-adults-orientation/2026-04-21/
ATTACH;FMTTYPE=image/jpeg:https://coalitionrcd.org/wp-content/uploads/2021/12/17E241F5-D195-48F1-B50C-470673392ACA.jpeg
END:VEVENT
BEGIN:VEVENT
DTSTART;TZID=America/Los_Angeles:20260421T100000
DTEND;TZID=America/Los_Angeles:20260421T120000
DTSTAMP:20260421T054012
CREATED:20211222T144342Z
LAST-MODIFIED:20250617T222531Z
UID:10024534-1776765600-1776772800@coalitionrcd.org
SUMMARY:Orientations – Vernon-Central/LATTC WorkSource Center
DESCRIPTION:Workforce Development for Adults – Orientation\nEvery Tuesday and Thursday’s – 10:00 AM\n  \nFor more information\, please contact or e-mail: \nVernon-Central/LATTC WorkSource Center at 213-763-5951 or 213-763-5914 \nEmail: worksource@coalitionrcd.org \nLocation: \nVernon-Central/LATTC WorkSource Center\n400 W Washington Blvd.\nLos Angeles\, CA 90015\nTom Bradley Center for Student Life(formerly Redwood Hall)
URL:https://coalitionrcd.org/event/workforce-development-for-adults-orientation/2026-04-21/
ATTACH;FMTTYPE=image/jpeg:https://coalitionrcd.org/wp-content/uploads/2021/12/17E241F5-D195-48F1-B50C-470673392ACA.jpeg
END:VEVENT
BEGIN:VEVENT
DTSTART;TZID=America/Los_Angeles:20260421T100000
DTEND;TZID=America/Los_Angeles:20260421T120000
DTSTAMP:20260421T054012
CREATED:20211222T144342Z
LAST-MODIFIED:20250617T222532Z
UID:10025274-1776765600-1776772800@coalitionrcd.org
SUMMARY:Orientations – Vernon-Central/LATTC WorkSource Center
DESCRIPTION:Workforce Development for Adults – Orientation\nEvery Tuesday and Thursday’s – 10:00 AM\n  \nFor more information\, please contact or e-mail: \nVernon-Central/LATTC WorkSource Center at 213-763-5951 or 213-763-5914 \nEmail: worksource@coalitionrcd.org \nLocation: \nVernon-Central/LATTC WorkSource Center\n400 W Washington Blvd.\nLos Angeles\, CA 90015\nTom Bradley Center for Student Life(formerly Redwood Hall)
URL:https://coalitionrcd.org/event/workforce-development-for-adults-orientation/2026-04-21/
ATTACH;FMTTYPE=image/jpeg:https://coalitionrcd.org/wp-content/uploads/2021/12/17E241F5-D195-48F1-B50C-470673392ACA.jpeg
END:VEVENT
BEGIN:VEVENT
DTSTART;TZID=America/Los_Angeles:20260421T100000
DTEND;TZID=America/Los_Angeles:20260421T120000
DTSTAMP:20260421T054012
CREATED:20211222T144342Z
LAST-MODIFIED:20250617T222533Z
UID:10026013-1776765600-1776772800@coalitionrcd.org
SUMMARY:Orientations – Vernon-Central/LATTC WorkSource Center
DESCRIPTION:Workforce Development for Adults – Orientation\nEvery Tuesday and Thursday’s – 10:00 AM\n  \nFor more information\, please contact or e-mail: \nVernon-Central/LATTC WorkSource Center at 213-763-5951 or 213-763-5914 \nEmail: worksource@coalitionrcd.org \nLocation: \nVernon-Central/LATTC WorkSource Center\n400 W Washington Blvd.\nLos Angeles\, CA 90015\nTom Bradley Center for Student Life(formerly Redwood Hall)
URL:https://coalitionrcd.org/event/workforce-development-for-adults-orientation/2026-04-21/
ATTACH;FMTTYPE=image/jpeg:https://coalitionrcd.org/wp-content/uploads/2021/12/17E241F5-D195-48F1-B50C-470673392ACA.jpeg
END:VEVENT
BEGIN:VEVENT
DTSTART;TZID=America/Los_Angeles:20260421T100000
DTEND;TZID=America/Los_Angeles:20260421T120000
DTSTAMP:20260421T054012
CREATED:20211222T144342Z
LAST-MODIFIED:20250617T222534Z
UID:10026751-1776765600-1776772800@coalitionrcd.org
SUMMARY:Orientations – Vernon-Central/LATTC WorkSource Center
DESCRIPTION:Workforce Development for Adults – Orientation\nEvery Tuesday and Thursday’s – 10:00 AM\n  \nFor more information\, please contact or e-mail: \nVernon-Central/LATTC WorkSource Center at 213-763-5951 or 213-763-5914 \nEmail: worksource@coalitionrcd.org \nLocation: \nVernon-Central/LATTC WorkSource Center\n400 W Washington Blvd.\nLos Angeles\, CA 90015\nTom Bradley Center for Student Life(formerly Redwood Hall)
URL:https://coalitionrcd.org/event/workforce-development-for-adults-orientation/2026-04-21/
ATTACH;FMTTYPE=image/jpeg:https://coalitionrcd.org/wp-content/uploads/2021/12/17E241F5-D195-48F1-B50C-470673392ACA.jpeg
END:VEVENT
BEGIN:VEVENT
DTSTART;TZID=America/Los_Angeles:20260421T100000
DTEND;TZID=America/Los_Angeles:20260421T120000
DTSTAMP:20260421T054012
CREATED:20211222T144342Z
LAST-MODIFIED:20250617T222535Z
UID:10027488-1776765600-1776772800@coalitionrcd.org
SUMMARY:Orientations – Vernon-Central/LATTC WorkSource Center
DESCRIPTION:Workforce Development for Adults – Orientation\nEvery Tuesday and Thursday’s – 10:00 AM\n  \nFor more information\, please contact or e-mail: \nVernon-Central/LATTC WorkSource Center at 213-763-5951 or 213-763-5914 \nEmail: worksource@coalitionrcd.org \nLocation: \nVernon-Central/LATTC WorkSource Center\n400 W Washington Blvd.\nLos Angeles\, CA 90015\nTom Bradley Center for Student Life(formerly Redwood Hall)
URL:https://coalitionrcd.org/event/workforce-development-for-adults-orientation/2026-04-21/
ATTACH;FMTTYPE=image/jpeg:https://coalitionrcd.org/wp-content/uploads/2021/12/17E241F5-D195-48F1-B50C-470673392ACA.jpeg
END:VEVENT
BEGIN:VEVENT
DTSTART;TZID=America/Los_Angeles:20260421T100000
DTEND;TZID=America/Los_Angeles:20260421T120000
DTSTAMP:20260421T054012
CREATED:20211222T144342Z
LAST-MODIFIED:20250617T222536Z
UID:10028224-1776765600-1776772800@coalitionrcd.org
SUMMARY:Orientations – Vernon-Central/LATTC WorkSource Center
DESCRIPTION:Workforce Development for Adults – Orientation\nEvery Tuesday and Thursday’s – 10:00 AM\n  \nFor more information\, please contact or e-mail: \nVernon-Central/LATTC WorkSource Center at 213-763-5951 or 213-763-5914 \nEmail: worksource@coalitionrcd.org \nLocation: \nVernon-Central/LATTC WorkSource Center\n400 W Washington Blvd.\nLos Angeles\, CA 90015\nTom Bradley Center for Student Life(formerly Redwood Hall)
URL:https://coalitionrcd.org/event/workforce-development-for-adults-orientation/2026-04-21/
ATTACH;FMTTYPE=image/jpeg:https://coalitionrcd.org/wp-content/uploads/2021/12/17E241F5-D195-48F1-B50C-470673392ACA.jpeg
END:VEVENT
BEGIN:VEVENT
DTSTART;TZID=America/Los_Angeles:20260421T100000
DTEND;TZID=America/Los_Angeles:20260421T120000
DTSTAMP:20260421T054012
CREATED:20211222T144342Z
LAST-MODIFIED:20250618T082600Z
UID:10040619-1776765600-1776772800@coalitionrcd.org
SUMMARY:Orientations – Vernon-Central/LATTC WorkSource Center
DESCRIPTION:Workforce Development for Adults – Orientation\nEvery Tuesday and Thursday’s – 10:00 AM\n  \nFor more information\, please contact or e-mail: \nVernon-Central/LATTC WorkSource Center at 213-763-5951 or 213-763-5914 \nEmail: worksource@coalitionrcd.org \nLocation: \nVernon-Central/LATTC WorkSource Center\n400 W Washington Blvd.\nLos Angeles\, CA 90015\nTom Bradley Center for Student Life(formerly Redwood Hall)
URL:https://coalitionrcd.org/event/workforce-development-for-adults-orientation/2026-04-21/
ATTACH;FMTTYPE=image/jpeg:https://coalitionrcd.org/wp-content/uploads/2021/12/17E241F5-D195-48F1-B50C-470673392ACA.jpeg
END:VEVENT
BEGIN:VEVENT
DTSTART;TZID=America/Los_Angeles:20260421T100000
DTEND;TZID=America/Los_Angeles:20260421T120000
DTSTAMP:20260421T054012
CREATED:20211222T144342Z
LAST-MODIFIED:20250618T082601Z
UID:10041248-1776765600-1776772800@coalitionrcd.org
SUMMARY:Orientations – Vernon-Central/LATTC WorkSource Center
DESCRIPTION:Workforce Development for Adults – Orientation\nEvery Tuesday and Thursday’s – 10:00 AM\n  \nFor more information\, please contact or e-mail: \nVernon-Central/LATTC WorkSource Center at 213-763-5951 or 213-763-5914 \nEmail: worksource@coalitionrcd.org \nLocation: \nVernon-Central/LATTC WorkSource Center\n400 W Washington Blvd.\nLos Angeles\, CA 90015\nTom Bradley Center for Student Life(formerly Redwood Hall)
URL:https://coalitionrcd.org/event/workforce-development-for-adults-orientation/2026-04-21/
ATTACH;FMTTYPE=image/jpeg:https://coalitionrcd.org/wp-content/uploads/2021/12/17E241F5-D195-48F1-B50C-470673392ACA.jpeg
END:VEVENT
BEGIN:VEVENT
DTSTART;TZID=America/Los_Angeles:20260421T100000
DTEND;TZID=America/Los_Angeles:20260421T120000
DTSTAMP:20260421T054012
CREATED:20211222T144342Z
LAST-MODIFIED:20250618T082602Z
UID:10041876-1776765600-1776772800@coalitionrcd.org
SUMMARY:Orientations – Vernon-Central/LATTC WorkSource Center
DESCRIPTION:Workforce Development for Adults – Orientation\nEvery Tuesday and Thursday’s – 10:00 AM\n  \nFor more information\, please contact or e-mail: \nVernon-Central/LATTC WorkSource Center at 213-763-5951 or 213-763-5914 \nEmail: worksource@coalitionrcd.org \nLocation: \nVernon-Central/LATTC WorkSource Center\n400 W Washington Blvd.\nLos Angeles\, CA 90015\nTom Bradley Center for Student Life(formerly Redwood Hall)
URL:https://coalitionrcd.org/event/workforce-development-for-adults-orientation/2026-04-21/
ATTACH;FMTTYPE=image/jpeg:https://coalitionrcd.org/wp-content/uploads/2021/12/17E241F5-D195-48F1-B50C-470673392ACA.jpeg
END:VEVENT
BEGIN:VEVENT
DTSTART;TZID=America/Los_Angeles:20260421T100000
DTEND;TZID=America/Los_Angeles:20260421T120000
DTSTAMP:20260421T054012
CREATED:20211222T144342Z
LAST-MODIFIED:20250618T082604Z
UID:10042503-1776765600-1776772800@coalitionrcd.org
SUMMARY:Orientations – Vernon-Central/LATTC WorkSource Center
DESCRIPTION:Workforce Development for Adults – Orientation\nEvery Tuesday and Thursday’s – 10:00 AM\n  \nFor more information\, please contact or e-mail: \nVernon-Central/LATTC WorkSource Center at 213-763-5951 or 213-763-5914 \nEmail: worksource@coalitionrcd.org \nLocation: \nVernon-Central/LATTC WorkSource Center\n400 W Washington Blvd.\nLos Angeles\, CA 90015\nTom Bradley Center for Student Life(formerly Redwood Hall)
URL:https://coalitionrcd.org/event/workforce-development-for-adults-orientation/2026-04-21/
ATTACH;FMTTYPE=image/jpeg:https://coalitionrcd.org/wp-content/uploads/2021/12/17E241F5-D195-48F1-B50C-470673392ACA.jpeg
END:VEVENT
BEGIN:VEVENT
DTSTART;TZID=America/Los_Angeles:20260421T100000
DTEND;TZID=America/Los_Angeles:20260421T120000
DTSTAMP:20260421T054012
CREATED:20211222T144342Z
LAST-MODIFIED:20250618T082605Z
UID:10043129-1776765600-1776772800@coalitionrcd.org
SUMMARY:Orientations – Vernon-Central/LATTC WorkSource Center
DESCRIPTION:Workforce Development for Adults – Orientation\nEvery Tuesday and Thursday’s – 10:00 AM\n  \nFor more information\, please contact or e-mail: \nVernon-Central/LATTC WorkSource Center at 213-763-5951 or 213-763-5914 \nEmail: worksource@coalitionrcd.org \nLocation: \nVernon-Central/LATTC WorkSource Center\n400 W Washington Blvd.\nLos Angeles\, CA 90015\nTom Bradley Center for Student Life(formerly Redwood Hall)
URL:https://coalitionrcd.org/event/workforce-development-for-adults-orientation/2026-04-21/
ATTACH;FMTTYPE=image/jpeg:https://coalitionrcd.org/wp-content/uploads/2021/12/17E241F5-D195-48F1-B50C-470673392ACA.jpeg
END:VEVENT
BEGIN:VEVENT
DTSTART;TZID=America/Los_Angeles:20260421T100000
DTEND;TZID=America/Los_Angeles:20260421T120000
DTSTAMP:20260421T054012
CREATED:20211222T144342Z
LAST-MODIFIED:20250618T082607Z
UID:10043754-1776765600-1776772800@coalitionrcd.org
SUMMARY:Orientations – Vernon-Central/LATTC WorkSource Center
DESCRIPTION:Workforce Development for Adults – Orientation\nEvery Tuesday and Thursday’s – 10:00 AM\n  \nFor more information\, please contact or e-mail: \nVernon-Central/LATTC WorkSource Center at 213-763-5951 or 213-763-5914 \nEmail: worksource@coalitionrcd.org \nLocation: \nVernon-Central/LATTC WorkSource Center\n400 W Washington Blvd.\nLos Angeles\, CA 90015\nTom Bradley Center for Student Life(formerly Redwood Hall)
URL:https://coalitionrcd.org/event/workforce-development-for-adults-orientation/2026-04-21/
ATTACH;FMTTYPE=image/jpeg:https://coalitionrcd.org/wp-content/uploads/2021/12/17E241F5-D195-48F1-B50C-470673392ACA.jpeg
END:VEVENT
BEGIN:VEVENT
DTSTART;TZID=America/Los_Angeles:20260421T100000
DTEND;TZID=America/Los_Angeles:20260421T120000
DTSTAMP:20260421T054012
CREATED:20211222T144342Z
LAST-MODIFIED:20250618T082608Z
UID:10044378-1776765600-1776772800@coalitionrcd.org
SUMMARY:Orientations – Vernon-Central/LATTC WorkSource Center
DESCRIPTION:Workforce Development for Adults – Orientation\nEvery Tuesday and Thursday’s – 10:00 AM\n  \nFor more information\, please contact or e-mail: \nVernon-Central/LATTC WorkSource Center at 213-763-5951 or 213-763-5914 \nEmail: worksource@coalitionrcd.org \nLocation: \nVernon-Central/LATTC WorkSource Center\n400 W Washington Blvd.\nLos Angeles\, CA 90015\nTom Bradley Center for Student Life(formerly Redwood Hall)
URL:https://coalitionrcd.org/event/workforce-development-for-adults-orientation/2026-04-21/
ATTACH;FMTTYPE=image/jpeg:https://coalitionrcd.org/wp-content/uploads/2021/12/17E241F5-D195-48F1-B50C-470673392ACA.jpeg
END:VEVENT
BEGIN:VEVENT
DTSTART;TZID=America/Los_Angeles:20260421T100000
DTEND;TZID=America/Los_Angeles:20260421T120000
DTSTAMP:20260421T054012
CREATED:20211222T144342Z
LAST-MODIFIED:20250618T082608Z
UID:10045001-1776765600-1776772800@coalitionrcd.org
SUMMARY:Orientations – Vernon-Central/LATTC WorkSource Center
DESCRIPTION:Workforce Development for Adults – Orientation\nEvery Tuesday and Thursday’s – 10:00 AM\n  \nFor more information\, please contact or e-mail: \nVernon-Central/LATTC WorkSource Center at 213-763-5951 or 213-763-5914 \nEmail: worksource@coalitionrcd.org \nLocation: \nVernon-Central/LATTC WorkSource Center\n400 W Washington Blvd.\nLos Angeles\, CA 90015\nTom Bradley Center for Student Life(formerly Redwood Hall)
URL:https://coalitionrcd.org/event/workforce-development-for-adults-orientation/2026-04-21/
ATTACH;FMTTYPE=image/jpeg:https://coalitionrcd.org/wp-content/uploads/2021/12/17E241F5-D195-48F1-B50C-470673392ACA.jpeg
END:VEVENT
BEGIN:VEVENT
DTSTART;TZID=America/Los_Angeles:20260421T100000
DTEND;TZID=America/Los_Angeles:20260421T120000
DTSTAMP:20260421T054012
CREATED:20211222T144342Z
LAST-MODIFIED:20250618T082609Z
UID:10045623-1776765600-1776772800@coalitionrcd.org
SUMMARY:Orientations – Vernon-Central/LATTC WorkSource Center
DESCRIPTION:Workforce Development for Adults – Orientation\nEvery Tuesday and Thursday’s – 10:00 AM\n  \nFor more information\, please contact or e-mail: \nVernon-Central/LATTC WorkSource Center at 213-763-5951 or 213-763-5914 \nEmail: worksource@coalitionrcd.org \nLocation: \nVernon-Central/LATTC WorkSource Center\n400 W Washington Blvd.\nLos Angeles\, CA 90015\nTom Bradley Center for Student Life(formerly Redwood Hall)
URL:https://coalitionrcd.org/event/workforce-development-for-adults-orientation/2026-04-21/
ATTACH;FMTTYPE=image/jpeg:https://coalitionrcd.org/wp-content/uploads/2021/12/17E241F5-D195-48F1-B50C-470673392ACA.jpeg
END:VEVENT
BEGIN:VEVENT
DTSTART;TZID=America/Los_Angeles:20260421T100000
DTEND;TZID=America/Los_Angeles:20260421T120000
DTSTAMP:20260421T054012
CREATED:20211222T144342Z
LAST-MODIFIED:20250617T185722Z
UID:10011995-1776765600-1776772800@coalitionrcd.org
SUMMARY:Orientations – Vernon-Central/LATTC WorkSource Center
DESCRIPTION:Workforce Development for Adults – Orientation\nEvery Tuesday and Thursday’s – 10:00 AM\n  \nFor more information\, please contact or e-mail: \nVernon-Central/LATTC WorkSource Center at 213-763-5951 or 213-763-5914 \nEmail: worksource@coalitionrcd.org \nLocation: \nVernon-Central/LATTC WorkSource Center\n400 W Washington Blvd.\nLos Angeles\, CA 90015\nTom Bradley Center for Student Life(formerly Redwood Hall)
URL:https://coalitionrcd.org/event/workforce-development-for-adults-orientation/2026-04-21/
ATTACH;FMTTYPE=image/jpeg:https://coalitionrcd.org/wp-content/uploads/2021/12/17E241F5-D195-48F1-B50C-470673392ACA.jpeg
END:VEVENT
BEGIN:VEVENT
DTSTART;TZID=America/Los_Angeles:20260421T100000
DTEND;TZID=America/Los_Angeles:20260421T120000
DTSTAMP:20260421T054012
CREATED:20211222T144342Z
LAST-MODIFIED:20250617T185724Z
UID:10013658-1776765600-1776772800@coalitionrcd.org
SUMMARY:Orientations – Vernon-Central/LATTC WorkSource Center
DESCRIPTION:Workforce Development for Adults – Orientation\nEvery Tuesday and Thursday’s – 10:00 AM\n  \nFor more information\, please contact or e-mail: \nVernon-Central/LATTC WorkSource Center at 213-763-5951 or 213-763-5914 \nEmail: worksource@coalitionrcd.org \nLocation: \nVernon-Central/LATTC WorkSource Center\n400 W Washington Blvd.\nLos Angeles\, CA 90015\nTom Bradley Center for Student Life(formerly Redwood Hall)
URL:https://coalitionrcd.org/event/workforce-development-for-adults-orientation/2026-04-21/
ATTACH;FMTTYPE=image/jpeg:https://coalitionrcd.org/wp-content/uploads/2021/12/17E241F5-D195-48F1-B50C-470673392ACA.jpeg
END:VEVENT
BEGIN:VEVENT
DTSTART;TZID=America/Los_Angeles:20260421T100000
DTEND;TZID=America/Los_Angeles:20260421T120000
DTSTAMP:20260421T054012
CREATED:20211222T144342Z
LAST-MODIFIED:20250617T185725Z
UID:10014488-1776765600-1776772800@coalitionrcd.org
SUMMARY:Orientations – Vernon-Central/LATTC WorkSource Center
DESCRIPTION:Workforce Development for Adults – Orientation\nEvery Tuesday and Thursday’s – 10:00 AM\n  \nFor more information\, please contact or e-mail: \nVernon-Central/LATTC WorkSource Center at 213-763-5951 or 213-763-5914 \nEmail: worksource@coalitionrcd.org \nLocation: \nVernon-Central/LATTC WorkSource Center\n400 W Washington Blvd.\nLos Angeles\, CA 90015\nTom Bradley Center for Student Life(formerly Redwood Hall)
URL:https://coalitionrcd.org/event/workforce-development-for-adults-orientation/2026-04-21/
ATTACH;FMTTYPE=image/jpeg:https://coalitionrcd.org/wp-content/uploads/2021/12/17E241F5-D195-48F1-B50C-470673392ACA.jpeg
END:VEVENT
BEGIN:VEVENT
DTSTART;TZID=America/Los_Angeles:20260421T100000
DTEND;TZID=America/Los_Angeles:20260421T120000
DTSTAMP:20260421T054012
CREATED:20211222T144342Z
LAST-MODIFIED:20250617T185729Z
UID:10016972-1776765600-1776772800@coalitionrcd.org
SUMMARY:Orientations – Vernon-Central/LATTC WorkSource Center
DESCRIPTION:Workforce Development for Adults – Orientation\nEvery Tuesday and Thursday’s – 10:00 AM\n  \nFor more information\, please contact or e-mail: \nVernon-Central/LATTC WorkSource Center at 213-763-5951 or 213-763-5914 \nEmail: worksource@coalitionrcd.org \nLocation: \nVernon-Central/LATTC WorkSource Center\n400 W Washington Blvd.\nLos Angeles\, CA 90015\nTom Bradley Center for Student Life(formerly Redwood Hall)
URL:https://coalitionrcd.org/event/workforce-development-for-adults-orientation/2026-04-21/
ATTACH;FMTTYPE=image/jpeg:https://coalitionrcd.org/wp-content/uploads/2021/12/17E241F5-D195-48F1-B50C-470673392ACA.jpeg
END:VEVENT
BEGIN:VEVENT
DTSTART;TZID=America/Los_Angeles:20260421T100000
DTEND;TZID=America/Los_Angeles:20260421T120000
DTSTAMP:20260421T054012
CREATED:20211222T144342Z
LAST-MODIFIED:20250617T185730Z
UID:10017798-1776765600-1776772800@coalitionrcd.org
SUMMARY:Orientations – Vernon-Central/LATTC WorkSource Center
DESCRIPTION:Workforce Development for Adults – Orientation\nEvery Tuesday and Thursday’s – 10:00 AM\n  \nFor more information\, please contact or e-mail: \nVernon-Central/LATTC WorkSource Center at 213-763-5951 or 213-763-5914 \nEmail: worksource@coalitionrcd.org \nLocation: \nVernon-Central/LATTC WorkSource Center\n400 W Washington Blvd.\nLos Angeles\, CA 90015\nTom Bradley Center for Student Life(formerly Redwood Hall)
URL:https://coalitionrcd.org/event/workforce-development-for-adults-orientation/2026-04-21/
ATTACH;FMTTYPE=image/jpeg:https://coalitionrcd.org/wp-content/uploads/2021/12/17E241F5-D195-48F1-B50C-470673392ACA.jpeg
END:VEVENT
BEGIN:VEVENT
DTSTART;TZID=America/Los_Angeles:20260421T100000
DTEND;TZID=America/Los_Angeles:20260421T120000
DTSTAMP:20260421T054012
CREATED:20211222T144342Z
LAST-MODIFIED:20250617T185723Z
UID:10018713-1776765600-1776772800@coalitionrcd.org
SUMMARY:Orientations – Vernon-Central/LATTC WorkSource Center
DESCRIPTION:Workforce Development for Adults – Orientation\nEvery Tuesday and Thursday’s – 10:00 AM\n  \nFor more information\, please contact or e-mail: \nVernon-Central/LATTC WorkSource Center at 213-763-5951 or 213-763-5914 \nEmail: worksource@coalitionrcd.org \nLocation: \nVernon-Central/LATTC WorkSource Center\n400 W Washington Blvd.\nLos Angeles\, CA 90015\nTom Bradley Center for Student Life(formerly Redwood Hall)
URL:https://coalitionrcd.org/event/workforce-development-for-adults-orientation/2026-04-21/
ATTACH;FMTTYPE=image/jpeg:https://coalitionrcd.org/wp-content/uploads/2021/12/17E241F5-D195-48F1-B50C-470673392ACA.jpeg
END:VEVENT
BEGIN:VEVENT
DTSTART;TZID=America/Los_Angeles:20260421T100000
DTEND;TZID=America/Los_Angeles:20260421T120000
DTSTAMP:20260421T054012
CREATED:20211222T144342Z
LAST-MODIFIED:20250617T185731Z
UID:10019538-1776765600-1776772800@coalitionrcd.org
SUMMARY:Orientations – Vernon-Central/LATTC WorkSource Center
DESCRIPTION:Workforce Development for Adults – Orientation\nEvery Tuesday and Thursday’s – 10:00 AM\n  \nFor more information\, please contact or e-mail: \nVernon-Central/LATTC WorkSource Center at 213-763-5951 or 213-763-5914 \nEmail: worksource@coalitionrcd.org \nLocation: \nVernon-Central/LATTC WorkSource Center\n400 W Washington Blvd.\nLos Angeles\, CA 90015\nTom Bradley Center for Student Life(formerly Redwood Hall)
URL:https://coalitionrcd.org/event/workforce-development-for-adults-orientation/2026-04-21/
ATTACH;FMTTYPE=image/jpeg:https://coalitionrcd.org/wp-content/uploads/2021/12/17E241F5-D195-48F1-B50C-470673392ACA.jpeg
END:VEVENT
BEGIN:VEVENT
DTSTART;TZID=America/Los_Angeles:20260421T100000
DTEND;TZID=America/Los_Angeles:20260421T120000
DTSTAMP:20260421T054012
CREATED:20211222T144342Z
LAST-MODIFIED:20250617T185726Z
UID:10021068-1776765600-1776772800@coalitionrcd.org
SUMMARY:Orientations – Vernon-Central/LATTC WorkSource Center
DESCRIPTION:Workforce Development for Adults – Orientation\nEvery Tuesday and Thursday’s – 10:00 AM\n  \nFor more information\, please contact or e-mail: \nVernon-Central/LATTC WorkSource Center at 213-763-5951 or 213-763-5914 \nEmail: worksource@coalitionrcd.org \nLocation: \nVernon-Central/LATTC WorkSource Center\n400 W Washington Blvd.\nLos Angeles\, CA 90015\nTom Bradley Center for Student Life(formerly Redwood Hall)
URL:https://coalitionrcd.org/event/workforce-development-for-adults-orientation/2026-04-21/
ATTACH;FMTTYPE=image/jpeg:https://coalitionrcd.org/wp-content/uploads/2021/12/17E241F5-D195-48F1-B50C-470673392ACA.jpeg
END:VEVENT
BEGIN:VEVENT
DTSTART;TZID=America/Los_Angeles:20260421T100000
DTEND;TZID=America/Los_Angeles:20260421T120000
DTSTAMP:20260421T054012
CREATED:20211222T144342Z
LAST-MODIFIED:20250617T185727Z
UID:10021846-1776765600-1776772800@coalitionrcd.org
SUMMARY:Orientations – Vernon-Central/LATTC WorkSource Center
DESCRIPTION:Workforce Development for Adults – Orientation\nEvery Tuesday and Thursday’s – 10:00 AM\n  \nFor more information\, please contact or e-mail: \nVernon-Central/LATTC WorkSource Center at 213-763-5951 or 213-763-5914 \nEmail: worksource@coalitionrcd.org \nLocation: \nVernon-Central/LATTC WorkSource Center\n400 W Washington Blvd.\nLos Angeles\, CA 90015\nTom Bradley Center for Student Life(formerly Redwood Hall)
URL:https://coalitionrcd.org/event/workforce-development-for-adults-orientation/2026-04-21/
ATTACH;FMTTYPE=image/jpeg:https://coalitionrcd.org/wp-content/uploads/2021/12/17E241F5-D195-48F1-B50C-470673392ACA.jpeg
END:VEVENT
BEGIN:VEVENT
DTSTART;TZID=America/Los_Angeles:20260421T100000
DTEND;TZID=America/Los_Angeles:20260421T120000
DTSTAMP:20260421T054012
CREATED:20211222T144342Z
LAST-MODIFIED:20250618T082554Z
UID:10034913-1776765600-1776772800@coalitionrcd.org
SUMMARY:Orientations – Vernon-Central/LATTC WorkSource Center
DESCRIPTION:Workforce Development for Adults – Orientation\nEvery Tuesday and Thursday’s – 10:00 AM\n  \nFor more information\, please contact or e-mail: \nVernon-Central/LATTC WorkSource Center at 213-763-5951 or 213-763-5914 \nEmail: worksource@coalitionrcd.org \nLocation: \nVernon-Central/LATTC WorkSource Center\n400 W Washington Blvd.\nLos Angeles\, CA 90015\nTom Bradley Center for Student Life(formerly Redwood Hall)
URL:https://coalitionrcd.org/event/workforce-development-for-adults-orientation/2026-04-21/
ATTACH;FMTTYPE=image/jpeg:https://coalitionrcd.org/wp-content/uploads/2021/12/17E241F5-D195-48F1-B50C-470673392ACA.jpeg
END:VEVENT
BEGIN:VEVENT
DTSTART;TZID=America/Los_Angeles:20260421T100000
DTEND;TZID=America/Los_Angeles:20260421T120000
DTSTAMP:20260421T054012
CREATED:20211222T144342Z
LAST-MODIFIED:20250618T082555Z
UID:10035551-1776765600-1776772800@coalitionrcd.org
SUMMARY:Orientations – Vernon-Central/LATTC WorkSource Center
DESCRIPTION:Workforce Development for Adults – Orientation\nEvery Tuesday and Thursday’s – 10:00 AM\n  \nFor more information\, please contact or e-mail: \nVernon-Central/LATTC WorkSource Center at 213-763-5951 or 213-763-5914 \nEmail: worksource@coalitionrcd.org \nLocation: \nVernon-Central/LATTC WorkSource Center\n400 W Washington Blvd.\nLos Angeles\, CA 90015\nTom Bradley Center for Student Life(formerly Redwood Hall)
URL:https://coalitionrcd.org/event/workforce-development-for-adults-orientation/2026-04-21/
ATTACH;FMTTYPE=image/jpeg:https://coalitionrcd.org/wp-content/uploads/2021/12/17E241F5-D195-48F1-B50C-470673392ACA.jpeg
END:VEVENT
BEGIN:VEVENT
DTSTART;TZID=America/Los_Angeles:20260421T100000
DTEND;TZID=America/Los_Angeles:20260421T120000
DTSTAMP:20260421T054012
CREATED:20211222T144342Z
LAST-MODIFIED:20250618T082555Z
UID:10036188-1776765600-1776772800@coalitionrcd.org
SUMMARY:Orientations – Vernon-Central/LATTC WorkSource Center
DESCRIPTION:Workforce Development for Adults – Orientation\nEvery Tuesday and Thursday’s – 10:00 AM\n  \nFor more information\, please contact or e-mail: \nVernon-Central/LATTC WorkSource Center at 213-763-5951 or 213-763-5914 \nEmail: worksource@coalitionrcd.org \nLocation: \nVernon-Central/LATTC WorkSource Center\n400 W Washington Blvd.\nLos Angeles\, CA 90015\nTom Bradley Center for Student Life(formerly Redwood Hall)
URL:https://coalitionrcd.org/event/workforce-development-for-adults-orientation/2026-04-21/
ATTACH;FMTTYPE=image/jpeg:https://coalitionrcd.org/wp-content/uploads/2021/12/17E241F5-D195-48F1-B50C-470673392ACA.jpeg
END:VEVENT
BEGIN:VEVENT
DTSTART;TZID=America/Los_Angeles:20260421T100000
DTEND;TZID=America/Los_Angeles:20260421T120000
DTSTAMP:20260421T054012
CREATED:20211222T144342Z
LAST-MODIFIED:20250618T082556Z
UID:10036824-1776765600-1776772800@coalitionrcd.org
SUMMARY:Orientations – Vernon-Central/LATTC WorkSource Center
DESCRIPTION:Workforce Development for Adults – Orientation\nEvery Tuesday and Thursday’s – 10:00 AM\n  \nFor more information\, please contact or e-mail: \nVernon-Central/LATTC WorkSource Center at 213-763-5951 or 213-763-5914 \nEmail: worksource@coalitionrcd.org \nLocation: \nVernon-Central/LATTC WorkSource Center\n400 W Washington Blvd.\nLos Angeles\, CA 90015\nTom Bradley Center for Student Life(formerly Redwood Hall)
URL:https://coalitionrcd.org/event/workforce-development-for-adults-orientation/2026-04-21/
ATTACH;FMTTYPE=image/jpeg:https://coalitionrcd.org/wp-content/uploads/2021/12/17E241F5-D195-48F1-B50C-470673392ACA.jpeg
END:VEVENT
END:VCALENDAR